Workbook

Sheet Deckblatt
C4: Ergebnis der Validierung zum
C5: Verfahren | D5: 2026 / 2027
C6: Validierung | D6: Unternehmen (Dienstleister)
C7: Zeitraum Validierung | D7: xx
B11: Prüf ID Nummer: | C11: xxx
B13: Name des Unternehmens | C13: ='Unternehmen-DL'!C7 -> 0
B14: Markenname
B15: Adresse | C15: ='Unternehmen-DL'!C8 -> 0
B16: Branche | C16: ='Unternehmen-DL'!C9 -> 0
B18: Ergebnis
C19: Mögliche Punkte | D19: Erreichte Punkte | E19: Anteil
B20: ='Unternehmen-DL'!B20 -> Unternehmenszweck | C20: ='Unternehmen-DL'!C20 -> 20 | D20: ='Unternehmen-DL'!D20 -> 0 | E20: =D20/C20 -> 0
B21: ='Unternehmen-DL'!B21 -> Nachhaltigkeit/Umweltmanagement-Systeme | C21: ='Unternehmen-DL'!C21 -> 15 | D21: ='Unternehmen-DL'!D21 -> 0 | E21: =D21/C21 -> 0
B22: ='Unternehmen-DL'!B22 -> Energieverbrauch | C22: ='Unternehmen-DL'!C22 -> 10 | D22: ='Unternehmen-DL'!D22 -> 0 | E22: =D22/C22 -> 0
B23: ='Unternehmen-DL'!B23 -> Resourcenverbrauch | C23: ='Unternehmen-DL'!C23 -> 10 | D23: ='Unternehmen-DL'!D23 -> 0 | E23: =D23/C23 -> 0
B24: ='Unternehmen-DL'!B24 -> Emissionen | C24: ='Unternehmen-DL'!C24 -> 10 | D24: ='Unternehmen-DL'!D24 -> 0 | E24: =D24/C24 -> 0
B25: ='Unternehmen-DL'!B25 -> Mobilität | C25: ='Unternehmen-DL'!C25 -> 10 | D25: ='Unternehmen-DL'!D25 -> 0 | E25: =D25/C25 -> 0
B26: ='Unternehmen-DL'!B26 -> Wasserverbrauch | C26: ='Unternehmen-DL'!C26 -> 5 | D26: ='Unternehmen-DL'!D26 -> 0 | E26: =D26/C26 -> 0
B27: ='Unternehmen-DL'!B27 -> Abfallstrategie | C27: ='Unternehmen-DL'!C27 -> 10 | D27: ='Unternehmen-DL'!D27 -> 0 | E27: =D27/C27 -> 0
B28: ='Unternehmen-DL'!B28 -> Bewusstseinsbildung | C28: ='Unternehmen-DL'!C28 -> 10 | D28: ='Unternehmen-DL'!D28 -> 0 | E28: =D28/C28 -> 0
B29: Summe | C29: =SUM(C20:C28) -> 100 | D29: =SUM(D20:D28) -> 0 | E29: =D29/C29 -> 0
B31: validiert von:
C36: ALLPLAN GmbH
C37: Schwindgasse 10, 1040 Wien
C38: www.allplan.at
B40: Mit Erreichen / Übertreffen der geforderten Benchmark von 51 % wird - gemäß den Statuten der
B41: geschützten EU-Gewährleistungsmarke - das GREEN BRAND Germany 2026/2027 Gütesiegel
B42: verliehen!
B44: Gültigkeit bis 31.12.2027
B46: Norbert R. L u x
B47: Geschäftsführer

Sheet Basisinformationen
M3: Ausfüllhilfe / Legende
M4: Markierung / Feld | N4: Art | O4: Was ist zu tun?
M5: Blaues Feld | N5: Freitextfeld | O5: bitte geforderte Daten/Erklärungen einfügen
M6: Oranges Feld | N6: Auswahlfeld | O6: Bitte eine Antwort aus dem Dropdown-Menü auswählen.
N7: □ Kästchen | O7: Bitte ein „X“ statt dem Kästchen neben der zutreffenden Antwort eintragen. Mehrfachauswahl ist möglich, wenn mehrere Antworten zutreffen.
M8: Unterstrichener Text | N8: Verweis auf Tabellenblatt | O8: Bitte die markierten Zellen in der dazugehörigen Tabelle im Blatt „Tabellen“ ausfüllen.
M9: Spalte: "Erforderlicher Nachweis" | N9: Erforderlicher Nachweis | O9: Bitte passende Dokumente oder Angaben beifügen, z. B. Rechnungen, Zertifikate oder Auswertungen und die konkrete Dokumentbezeichnung/den link in der Spalte "erforderlicher Nachweis" eintragen.
M11: Bitte vergewissern Sie sich bei Einreichung, - dass alle Fragen umfassend beantwortet wurden - alle beizufügenden Dokumente auch mitgesandt werden (ggf. via wetransfer) - und bei den entsprechenden Fragen die konkrete Dokumentbezeichnung genannt wird. Hinweis: ein Verweis z.B. „siehe unseren Nachhaltigkeitsbericht“ genügt nicht, sondern bitte immer einen Hinweis/link zur entsprechenden Passage anführen. Damit vermeiden Sie unnötige Nachfragen bei der Auswertung, die Zeit kosten und auch höhere Gebühren zur Folge haben können! – Danke!

Sheet Unternehmen-DL
B3: Dienstleister
B7: Name des Unternehmens
B8: Adresse
B9: Branche
B10: Beschreibung des Geschäftszweckes
B11: Rechtsform
B12: Anzahl Mitarbeiter
B13: Jahresumsatz des Unternehmens
B14: Kontaktperson/ Funktion
B15: e-mail
B16: Telefon
B18: Ergebnis
C19: Mögliche Punkte | D19: Erreichte Punkte | E19: Anteil | G19: Jahr 1 | I19: Jahr 2 | J19: Jahr 3 | K19: Jahr 4
B20: =Validierung!A4 -> Unternehmenszweck | C20: =Auswertung!G4 -> 20 | D20: =SUM(Auswertung!I5) -> 0 | E20: =D20/C20 -> 0 | G20: =D20 -> 0
B21: =Validierung!A10 -> Nachhaltigkeit/Umweltmanagement-Systeme | C21: =Auswertung!G10 -> 15 | D21: =SUM(Auswertung!I11:I17) -> 0 | E21: =D21/C21 -> 0 | G21: =D21 -> 0
B22: =Validierung!A18 -> Energieverbrauch | C22: =Auswertung!G18 -> 10 | D22: =SUM(Auswertung!I19:I43) -> 0 | E22: =D22/C22 -> 0 | G22: =D22 -> 0
B23: =Validierung!A44 -> Resourcenverbrauch | C23: =Auswertung!G44 -> 10 | D23: =SUM(Auswertung!I45:I53) -> 0 | E23: =D23/C23 -> 0 | G23: =D23 -> 0
B24: =Validierung!A54 -> Emissionen | C24: =Auswertung!G54 -> 10 | D24: =SUM(Auswertung!I55:I61) -> 0 | E24: =D24/C24 -> 0 | G24: =D24 -> 0
B25: =Validierung!A62 -> Mobilität | C25: =Auswertung!G62 -> 10 | D25: =SUM(Auswertung!I63:I74) -> 0 | E25: =D25/C25 -> 0 | G25: =D25 -> 0
B26: =Validierung!A75 -> Wasserverbrauch | C26: =Auswertung!G75 -> 5 | D26: =SUM(Auswertung!I76:I83) -> 0 | E26: =D26/C26 -> 0 | G26: =D26 -> 0
B27: =Validierung!A84 -> Abfallstrategie | C27: =Auswertung!G84 -> 10 | D27: =SUM(Auswertung!I85:I93) -> 0 | E27: =D27/C27 -> 0 | G27: =D27 -> 0
B28: =Validierung!A94 -> Bewusstseinsbildung | C28: =Auswertung!G94 -> 10 | D28: =SUM(Auswertung!I95:I113) -> 0 | E28: =D28/C28 -> 0 | G28: =D28 -> 0
B29: Summe | C29: =SUM(C20:C28) -> 100 | D29: =SUM(D20:D28) -> 0 | E29: =D29/C29 -> 0 | G29: =D29 -> 0
B31: Bearbeiterin | C31: xxx
C39: ALLPLAN GmbH
C40: Schwindgasse 10, 1040 Wien
C41: M: +43 676 842 225 220
C42: Firmenbuchnummer: 94000k
C43: Handelsgericht Wien
C44: www.allplan.at

Sheet Validierung
A1: Frage Nr. | B1: Fragebogen Unternehmen | C1: Auswahl-Antwort (bitte auswählen) | D1: Erklärungen | E1: Erforderlicher Nachweis: Bitte führen Sie die genaue Bezeichnung der beigefügten Nachweise in der jeweiligen Zelle an. (Hinweise überschreiben) | F1: Max. Punkteanzahl Kategorien | G1: max. Punkte je Frage
A3: Frage0 | B3: Wie beurteilen Sie die Verankerung von Umweltthemen in Ihrem Unternehmen im Vergleich zum Standard in Ihrer Branche? Fokussieren Sie dabei auf die aktuelle Situation, geben Sie aber auch einen Ausblick auf zukünftige Ziele und Aktivitäten.
A4: Unternehmenszweck | F4: 20
A5: Frage1 | B5: Wie hoch ist der Umsatzanteil ökologisch nachhaltiger Dienstleistungen am Gesamtumsatz des Unternehmens? [Xx%] | G5: 20
B6: Beschreiben sie alle von Ihnen angebotenen Dienstleistungen und heben Sie die als ökologisch nachhaltig bezeichneten hervor. | G6: 0
A7: Frage 1a | B7: Welche Umweltbelastungen werden durch diese Dienstleistungen reduziert oder vermieden? | C7: falls zutreffend, bitte „☐“ durch „X“ ersetzen. Mehrfachauswahl möglich. ☐ Energieverbrauch ☐ Treibhausgasemissionen ☐ Ressourcen- und Materialverbrauch ☐ Abfallaufkommen ☐ Wasserverbrauch ☐ Umweltbelastungen durch Mobilität und Transport ☐ Sonstige: __________________ | G7: 0
B8: Beschreiben sie die relevanten Auswirkungen kurz an Hand von relevanten Umweltkennzahlen. | G8: 0
A9: Frage 1b | B9: Wie wird die ökologische Nachhaltigkeit dieser Dienstleistungen nachgewiesen? Nachweis! | E9: Zertifikate, Gütesiegel, Prüfberichte, Berechnungen oder weitere Dokumentationen | G9: 0
A10: Nachhaltigkeit/Umweltmanagement-Systeme | F10: 15
A11: Frage 2 | B11: Ist das Thema "Umwelt" in Form eines Umweltmanagementsystems gem. ISO14001 oder EMAS in Ihrem Unternehmen verankert? Nachweis! | E11: Gültiges Zertifikat | G11: 5
A13: Frage 3 | B13: Betreibt ihr Unternehmen ein umfassendes System zur laufenden Verbesserung der Nachhaltigkeit? (ökonomische, ökologische, gesellschaftliche/ethische Aspekte), falls ja bitte um Dokumentation (z.B. Verantwortlichkeiten/Einbettung in die Organisation, Einbeziehung von Stakeholder, aktueller Nachhaltigkeitsbericht, Impact Messung) Nachweis! | E13: Nachhaltigkeitsbericht, Monitoring-Dashboard, Managementhandbuch Prozessbeschreibung | G13: 5
A15: Frage 4 | B15: Sind Sie gesetzlich verpflichtet einen Nachhaltigkeitsbericht zu erstellen? | G15: 2
A17: Frage 5 | B17: Nennen Sie im Bereich der ökologischen Nachhaltigkeit: 1.ihre wichtigsten 3 Ziele 2.die entsprechenden KPI´s (key performance indicators). 3.geben Sie jeweils den aktuellen Ist-Stand bekannt. Nachweis! | E17: Dokumentation z.B in Nachhaltigkeitsstrategie Umweltpolitik, Nachhaltigkeitsbericht Umweltkennzahlen Jahresvergleich (konkretes Kapitel, seite,..) | G17: 3
A18: Energieverbrauch | F18: 10
A19: Frage 6 | B19: Gibt es ein Energiemanagementsystem in Ihrem Unternehmen? (ISO 50001 oder vergleichbar) Nachweis! | E19: Zertifikat | G19: 1
A21: Frage 7 | B21: Wie hoch war ihr Gesamt-Jahresstromverbrauch über alle Standorte in den letzten drei Jahren? (MWh/Jahr) Nachweis! | C21: Tabelle ausfüllen (Blatt:Tabellen): Jahresstromverbrauch! | E21: Stromrechnungen, Energieabrechnungen, Zählerauswertungen, Energiemanagementbericht, interne Verbrauchsauswertung oder ESG-/Nachhaltigkeitsbericht mit Stromkennzahlen. | G21: 1.5
A23: Frage 7a | B23: Erläutern Sie die Gründe für Änderungen des Stromverbrauchs im angegebenen Zeitraum. (z.B. veränderte Mitarbeiterzahl, Fläche, Auslastung, Homeoffice, IT-Nutzung oder Effizienzmaßnahmen)
A25: Frage 8 | B25: Wie hoch war ihr Gesamt-Wärmeverbrauch über alle Standorte in den letzten drei Jahren? (MWh/Jahr) Unterscheiden Sie Prozesswärme und Heizwärme. Nachweis! | C25: Tabelle ausfüllen (Blatt:Tabellen): Wärmeverbrauch! | G25: 1.5
A27: Frage 8a | B27: Erläutern Sie die Gründe für Änderungen des Wärmeverbrauchs im angegebenen Zeitraum. (z.B. geänderte Produktionsmengen, getätigte Energieeffizienzmaßnahmen)
A29: Frage 9 | B29: Beziehen Sie zertifizierten Ökostrom (= Strom aus ausschließlich erneuerbaren Energieträgern)? Nachweis! | C29: falls zutreffend, bitte „☐“ durch „X“ ersetzen. Standort 1:_________ ☐ Ja ☐ Nein Standort 2:_________ ☐ Ja ☐ Nein Standort 3:_________ ☐ Ja ☐ Nein usw. | E29: aktuelles Ökostromzertifikat beilegen. Für jeden Standort: Dokumentation des aktuellen Strommix des Stromanbieters beilegen. (Quelle: Stromrechnung) | G29: 1
A31: Frage 10 | B31: Wird vom Unternehmen selbst vor Ort Strom erzeugt (aus erneuerbaren Energiequellen)? | G31: 1
A33: Frage 10a | B33: Mit welcher Technologie und in welchem Ausmaß? (MWh/a)
A35: Frage 11 | B35: Woraus beziehen Sie Ihre Wärmeenergie? (Heizung, Warmwasser) Bitte um Angabe der Anteile der einzelnen Energieträger am gesamten Wärmeverbrauch über alle Standorte des Unternehmens in MWh und % Nachweis! | C35: (Blatt:Tabellen): Energieträger & kWh! | E35: Nachweis, z.B. Heizkostenabrechnungen, Energierechnungen, Zählerauswertungen, Fernwärmenachweise, Energiebericht, Nachhaltigkeitsbericht oder interne Verbrauchsauswertung | G35: 1
A37: Frage 12 | B37: Wird vom Unternehmen selbst vor Ort Wärme erzeugt (aus erneuerbaren Energiequellen)? | G37: 1
A39: Frage 12a | B39: Mit welcher Technologie und in welchem Ausmaß? (MWh/a)
A41: Frage13 | B41: Welche Energieeffizienzklasse(n) hat/haben ihre Unternehmensgebäude? | C41: Tabelle ausfüllen (Blatt:Tabellen): Energieeffizienzklasse! | G41: 1
A43: Frage14 | B43: Wenn Sie im letzten Jahr ein Projekt zum Thema "Energie"durchgeführt haben, haben Sie hier die Gelegenheit dieses kurz vorzustellen. Nachweis! | C43: falls zutreffend, bitte „☐“ durch „X“ ersetzen. Mehrfachauswahl möglich. ☐ Verbesserung der Energieeffizienz von Gebäuden, z. B. Sanierung ☐ Erneuerbare Energie oder eigene Energieerzeugung, z. B. Photovoltaik ☐ Optimierung von Heizung, Kühlung oder Lüftung ☐ Umstellung auf energieeffiziente Beleuchtung, z. B. LED ☐ Einsatz energieeffizienter Geräte oder IT-Systeme ☐ Optimierung von Betriebsabläufen ☐ Energiemanagement oder Verbrauchsmonitoring ☐ Schulung oder Sensibilisierung der Beschäftigten ☐ Sonstiges: __________ ☐ Kein Energieprojekt umgesetzt | E43: Projektbeschreibung, link | G43: 1
A44: Resourcenverbrauch | F44: 10
A45: Frage 15 | B45: Erfasst Ihr Unternehmen regelmäßig den Verbrauch den für die Erbringung ihrer Dienstleistung wesentlicher Materialien und Ressourcen? Nachweis! | E45: Auszug/Nachweis der Dokumentation | G45: 2
A47: Frage15a | B47: Welche Materialien und Ressourcen werden erfasst? | C47: Tabelle ausfüllen (Blatt:Tabellen): Materialverbrauch!
A49: Frage16 | B49: Welche Maßnahmen zur Verringerung des Ressourcenverbrauchs wurden in den letzten drei Jahren umgesetzt? | C49: falls zutreffend, bitte „☐“ durch „X“ ersetzen. Mehrfachauswahl möglich. ☐ Reduktion des Resourcenverbrauchs der erbrachten Dienstleistung (Kerngeschäft) ☐ Digitalisierung und Reduktion Papier- und Büromaterialverbrauch ☐ Wiederverwendung von Materialien oder Produkten ☐ Reparatur und längere Nutzung von Geräten ☐ Vermeidung von Einwegprodukten ☐ Reduzierung oder Vermeidung von Verpackungen ☐ Nachhaltige Beschaffung von Produkten und Dienstleistungen ☐ Schulung oder Sensibilisierung der Beschäftigten ☐ Sonstige Maßnahme: __________ ☐ Keine Maßnahmen umgesetzt | G49: 6
A51: Frage 17 | B51: Werden beim Einkauf umweltfreundliche Produkte und Dienstleistungen bevorzugt? Nachweis! | E51: Einkaufsrichtlinie, Lieferantenkodex, Umweltzertifikate | G51: 1
A53: Frage 18 | B53: Findet im Unternehmen ein ökologisches Office Management statt? (z.B. geringer Papierverbrauch, Leitungswasser anstatt Mineralwasser, Ökoboxen) | G53: 1
A54: Emissionen | F54: 10
A55: Frage 19 | B55: Liegt ein aktuell gültiger CO2-Fußabdruck (Unternehmen, Produkte) vor? Falls der Fußabdruck nur für Unternehmensteile bzw. einzelne Produkte vorliegt, bitte um Erläuterung. Nachweis! | E55: CO₂-Bilanz, CO₂-Zertifikat | G55: 4
A57: Frage 20 | B57: Wie hoch waren ihr Gesamt-Emissionen über alle Standorte (Unternehmen) in den letzten drei Jahren? (t CO2eq/Jahr) | C57: Tabelle ausfüllen (Blatt:Tabellen): Emissionen! | G57: 4
G58: 0
A59: Frage 20a | B59: Erläutern Sie die Gründe für Änderungen der Gesamt-Emissionen im angegebenen Zeitraum. (z.B. getätigte Energieeffizienzmaßnahmen/ nachhaltige Mobilität / weniger Dienstreisen / nachhaltige Beschaffung / effiziente IT und Rechenzentren / Sonstige) | G59: 0
A61: Frage 21 | B61: Wenn Sie in den letzten zwei Jahren ein (neues) Projekt zum Thema "Klimaschutz/Klimaforschung" durchgeführt haben, haben Sie hier die Gelegenheit dieses kurz vorzustellen. Nachweis! | E61: Projektbeschreibung, link | G61: 2
A62: Mobilität | F62: 10
...

Sheet Auswertung
A1: Verpflichtendes Update bei Re-Validierung | B1: =Validierung!A1 -> Frage Nr. | C1: =Validierung!B1 -> Fragebogen Unternehmen | D1: =Validierung!C1 -> Auswahl-Antwort (bitte auswählen) | E1: =Validierung!D1 -> Erklärungen | F1: =Validierung!E1 -> Erforderlicher Nachweis: Bitte führen Sie die genaue Bezeichnung der beigefügten Nachweise in der jeweiligen Zelle an. (Hinweise überschreiben) | G1: Max. Punkteanzahl Kategorien | H1: max. Punkte je Frage | I1: Erreichte Punkte | J1: Punkteschema
A3: bei Bedarf | B3: =Validierung!A3 -> Frage0 | C3: =Validierung!B3 -> Wie beurteilen Sie die Verankerung von Umweltthemen in Ihrem Unternehmen im Vergleich zum Standard in Ihrer Branche? Fokussieren Sie dabei auf die aktuelle Situation, geben Sie aber auch einen Ausblick auf zukünftige Ziele und Aktivitäten. | D3: =Validierung!C3 -> 0 | E3: =Validierung!D3 -> 0
A4: Unternehmenszweck | G4: 20
A5: ja | B5: =Validierung!A5 -> Frage1 | C5: =Validierung!B5 -> Wie hoch ist der Umsatzanteil ökologisch nachhaltiger Dienstleistungen am Gesamtumsatz des Unternehmens? [Xx%] | E5: =Validierung!D5 -> 0 | H5: 20 | J5: Bewertung: x% * Art des Nachweises (1a)
C6: =Validierung!B6 -> Beschreiben sie alle von Ihnen angebotenen Dienstleistungen und heben Sie die als ökologisch nachhaltig bezeichneten hervor. | E6: =Validierung!D6 -> 0 | H6: 0
A7: ja | B7: =Validierung!A7 -> Frage 1a | C7: =Validierung!B7 -> Welche Umweltbelastungen werden durch diese Dienstleistungen reduziert oder vermieden? | D7: =Validierung!C7 -> falls zutreffend, bitte „☐“ durch „X“ ersetzen. Mehrfachauswahl möglich. ☐ Energieverbrauch ☐ Treibhausgasemissionen ☐ Ressourcen- und Materialverbrauch ☐ Abfallaufkommen ☐ Wasserverbrauch ☐ Umweltbelastungen durch Mobilität und Transport ☐ Sonstige: __________________ | H7: 0
C8: =Validierung!B8 -> Beschreiben sie die relevanten Auswirkungen kurz an Hand von relevanten Umweltkennzahlen. | E8: =Validierung!D8 -> 0 | H8: 0
A9: ja | B9: =Validierung!A9 -> Frage 1b | C9: =Validierung!B9 -> Wie wird die ökologische Nachhaltigkeit dieser Dienstleistungen nachgewiesen? Nachweis! | D9: =Validierung!C9 -> 0 | F9: =Validierung!E9 -> Zertifikate, Gütesiegel, Prüfberichte, Berechnungen oder weitere Dokumentationen | H9: 0 | J9: 100 % - Extern geprüft / Taxonomie-Konformität nachgewiesen 80% - Anerkanntes Umweltzeichen, Gütesiegel oder Zertifikat 60% Nachvollziehbare Produktinformationen / Nachhaltigkeitsbericht / Website 20% Selbsteinschätzung mit plausibler Begründung 10% Reine Selbsteinschätzung ohne Nachweis
A10: Nachhaltigkeit/Umweltmanagement-Systeme | G10: 15
A11: ja (Zertifikate müssen aktuell/gültig sein) | B11: =Validierung!A11 -> Frage 2 | C11: =Validierung!B11 -> Ist das Thema "Umwelt" in Form eines Umweltmanagementsystems gem. ISO14001 oder EMAS in Ihrem Unternehmen verankert? Nachweis! | D11: =Validierung!C11 -> 0 | F11: =Validierung!E11 -> Gültiges Zertifikat | H11: 5 | J11: 0% - Kein gültiges Zertifikat vorhanden 100% - gültiges Zertifikat vorhanden
A13: bei Bedarf (ggf. neuen Bericht schicken) | B13: =Validierung!A13 -> Frage 3 | C13: =Validierung!B13 -> Betreibt ihr Unternehmen ein umfassendes System zur laufenden Verbesserung der Nachhaltigkeit? (ökonomische, ökologische, gesellschaftliche/ethische Aspekte), falls ja bitte um Dokumentation (z.B. Verantwortlichkeiten/Einbettung in die Organisation, Einbeziehung von Stakeholder, aktueller Nachhaltigkeitsbericht, Impact Messung) Nachweis! | D13: =Validierung!C13 -> 0 | F13: =Validierung!E13 -> Nachhaltigkeitsbericht, Monitoring-Dashboard, Managementhandbuch Prozessbeschreibung | H13: 5 | J13: 25%- Wesentlichkeitsanalyse vorhanden und Einbindung von Stakeholdern 25% - Impact-Messung vorhanden 50% - Aktueller Nachhaltigkeitsbericht vorhanden
A15: bei Bedarf (ggf. neuen Bericht schicken) | B15: =Validierung!A15 -> Frage 4 | C15: =Validierung!B15 -> Sind Sie gesetzlich verpflichtet einen Nachhaltigkeitsbericht zu erstellen? | D15: =Validierung!C15 -> 0 | H15: 2 | J15: ja: 0 Punkte
A17: ja | B17: =Validierung!A17 -> Frage 5 | C17: =Validierung!B17 -> Nennen Sie im Bereich der ökologischen Nachhaltigkeit: 1.ihre wichtigsten 3 Ziele 2.die entsprechenden KPI´s (key performance indicators). 3.geben Sie jeweils den aktuellen Ist-Stand bekannt. Nachweis! | E17: =Validierung!D17 -> 0 | F17: =Validierung!E17 -> Dokumentation z.B in Nachhaltigkeitsstrategie Umweltpolitik, Nachhaltigkeitsbericht Umweltkennzahlen Jahresvergleich (konkretes Kapitel, seite,..) | H17: 3 | J17: 100% alle drei Punkte vorhanden; wenn nur Teilbereiche davon vorhanden: 20% für Ziele, jeweils 40% für KPI und aktuellen IST Stand
A18: Energieverbrauch | G18: 10
A19: bei Bedarf/Änderung | B19: =Validierung!A19 -> Frage 6 | C19: =Validierung!B19 -> Gibt es ein Energiemanagementsystem in Ihrem Unternehmen? (ISO 50001 oder vergleichbar) Nachweis! | D19: =Validierung!C19 -> 0 | F19: =Validierung!E19 -> Zertifikat | H19: 1 | J19: 0% - Kein gültiges Zertifikaat vorhanden 100% - gültiges Zertifikat vorhanden
A21: ja | B21: =Validierung!A21 -> Frage 7 | C21: =Validierung!B21 -> Wie hoch war ihr Gesamt-Jahresstromverbrauch über alle Standorte in den letzten drei Jahren? (MWh/Jahr) Nachweis! | D21: =Validierung!C21 -> Tabelle ausfüllen (Blatt:Tabellen): Jahresstromverbrauch! | F21: =Validierung!E21 -> Stromrechnungen, Energieabrechnungen, Zählerauswertungen, Energiemanagementbericht, interne Verbrauchsauswertung oder ESG-/Nachhaltigkeitsbericht mit Stromkennzahlen. | H21: 1.5 | J21: ´- Daten vorhanden: 50% - +25% Im Jahr 3< Jahr1 +25% Wenn die zwei vorherigen Bedingungen erfüllt sind und noch Maßnahmen beschrieben
A23: ja | B23: =Validierung!A23 -> Frage 7a | C23: =Validierung!B23 -> Erläutern Sie die Gründe für Änderungen des Stromverbrauchs im angegebenen Zeitraum. (z.B. veränderte Mitarbeiterzahl, Fläche, Auslastung, Homeoffice, IT-Nutzung oder Effizienzmaßnahmen) | E23: =Validierung!D23 -> 0
A25: ja | B25: =Validierung!A25 -> Frage 8 | C25: =Validierung!B25 -> Wie hoch war ihr Gesamt-Wärmeverbrauch über alle Standorte in den letzten drei Jahren? (MWh/Jahr) Unterscheiden Sie Prozesswärme und Heizwärme. Nachweis! | D25: =Validierung!C25 -> Tabelle ausfüllen (Blatt:Tabellen): Wärmeverbrauch! | H25: 1.5
A27: bei Bedarf/Änderung | B27: =Validierung!A27 -> Frage 8a | C27: =Validierung!B27 -> Erläutern Sie die Gründe für Änderungen des Wärmeverbrauchs im angegebenen Zeitraum. (z.B. geänderte Produktionsmengen, getätigte Energieeffizienzmaßnahmen) | E27: =Validierung!D27 -> 0
A29: ja | B29: =Validierung!A29 -> Frage 9 | C29: =Validierung!B29 -> Beziehen Sie zertifizierten Ökostrom (= Strom aus ausschließlich erneuerbaren Energieträgern)? Nachweis! | D29: =Validierung!C29 -> falls zutreffend, bitte „☐“ durch „X“ ersetzen. Standort 1:_________ ☐ Ja ☐ Nein Standort 2:_________ ☐ Ja ☐ Nein Standort 3:_________ ☐ Ja ☐ Nein usw. | F29: =Validierung!E29 -> aktuelles Ökostromzertifikat beilegen. Für jeden Standort: Dokumentation des aktuellen Strommix des Stromanbieters beilegen. (Quelle: Stromrechnung) | H29: 1 | J29: aliquote Punkte pro Standort mit gültigem Ökostromzertifikat (z.B. 5 Standorte, davon 2 ja: dann 2/5 Punkte)
A31: bei Bedarf/Änderung | B31: =Validierung!A31 -> Frage 10 | C31: =Validierung!B31 -> Wird vom Unternehmen selbst vor Ort Strom erzeugt (aus erneuerbaren Energiequellen)? | D31: =Validierung!C31 -> 0 | H31: 1 | J31: Antwort ja & Dokumentation vorhanden: 50%; Zusatzpunkte je nach Größe: >10%<50% Gesamtstrom-Bedarf: +25% >50%: volle Punke
A33: bei Bedarf/Änderung | B33: =Validierung!A33 -> Frage 10a | C33: =Validierung!B33 -> Mit welcher Technologie und in welchem Ausmaß? (MWh/a) | E33: =Validierung!D33 -> 0
A35: ja | B35: =Validierung!A35 -> Frage 11 | C35: =Validierung!B35 -> Woraus beziehen Sie Ihre Wärmeenergie? (Heizung, Warmwasser) Bitte um Angabe der Anteile der einzelnen Energieträger am gesamten Wärmeverbrauch über alle Standorte des Unternehmens in MWh und % Nachweis! | D35: =Validierung!C35 -> (Blatt:Tabellen): Energieträger & kWh! | F35: =Validierung!E35 -> Nachweis, z.B. Heizkostenabrechnungen, Energierechnungen, Zählerauswertungen, Fernwärmenachweise, Energiebericht, Nachhaltigkeitsbericht oder interne Verbrauchsauswertung | H35: 1 | J35: Punkte % analog zu % Anteil Summe erneuerbare Energieträger Wärme alle Standorte (Biomasse, Wärmepumpe, Geothermie..)
A37: bei Bedarf/Änderung | B37: =Validierung!A37 -> Frage 12 | C37: =Validierung!B37 -> Wird vom Unternehmen selbst vor Ort Wärme erzeugt (aus erneuerbaren Energiequellen)? | D37: =Validierung!C37 -> 0 | H37: 1 | J37: Antwort ja & Dokumentation vorhanden: 50%; Zusatzpunkte je nach Größe: >10%<50% Gesamtwärme-Bedarf: +25% >50%: volle Punke
A39: 0 | B39: =Validierung!A39 -> Frage 12a | C39: =Validierung!B39 -> Mit welcher Technologie und in welchem Ausmaß? (MWh/a) | E39: =Validierung!D39 -> 0
A41: bei Bedarf/Änderung | B41: =Validierung!A41 -> Frage13 | C41: =Validierung!B41 -> Welche Energieeffizienzklasse(n) hat/haben ihre Unternehmensgebäude? | D41: =Validierung!C41 -> Tabelle ausfüllen (Blatt:Tabellen): Energieeffizienzklasse! | H41: 1 | J41: Auswertung bei mehreren Standorten: HWB Angaben gewichtet nach Anteil m² 100% bei max 15 kWh/m² BGF-Ref 75% bei max 25 kWh/m² BGF-Ref 50% bei max 50 kWh/m² BGF-Ref 25% bei max 100 kWh/m² BGF-Ref
A43: ja | B43: =Validierung!A43 -> Frage14 | C43: =Validierung!B43 -> Wenn Sie im letzten Jahr ein Projekt zum Thema "Energie"durchgeführt haben, haben Sie hier die Gelegenheit dieses kurz vorzustellen. Nachweis! | D43: =Validierung!C43 -> falls zutreffend, bitte „☐“ durch „X“ ersetzen. Mehrfachauswahl möglich. ☐ Verbesserung der Energieeffizienz von Gebäuden, z. B. Sanierung ☐ Erneuerbare Energie oder eigene Energieerzeugung, z. B. Photovoltaik ☐ Optimierung von Heizung, Kühlung oder Lüftung ☐ Umstellung auf energieeffiziente Beleuchtung, z. B. LED ☐ Einsatz energieeffizienter Geräte oder IT-Systeme ☐ Optimierung von Betriebsabläufen ☐ Energiemanagement oder Verbrauchsmonitoring ☐ Schulung oder Sensibilisierung der Beschäftigten ☐ Sonstiges: __________ ☐ Kein Energieprojekt umgesetzt | E43: =Validierung!D43 -> 0 | F43: =Validierung!E43 -> Projektbeschreibung, link | H43: 1 | J43: volle Punkte wenn inhaltlich neues Projekt & bisher nicht genannt im FB, sonst 0 (keine Punkte für bloße "updates")
A44: Resourcenverbrauch | G44: 10
A45: bei Bedarf/Änderung | B45: =Validierung!A45 -> Frage 15 | C45: =Validierung!B45 -> Erfasst Ihr Unternehmen regelmäßig den Verbrauch den für die Erbringung ihrer Dienstleistung wesentlicher Materialien und Ressourcen? Nachweis! | D45: =Validierung!C45 -> 0 | E45: =Validierung!D45 -> 0 | F45: =Validierung!E45 -> Auszug/Nachweis der Dokumentation | H45: 2
A47: ja | B47: =Validierung!A47 -> Frage15a | C47: =Validierung!B47 -> Welche Materialien und Ressourcen werden erfasst? | D47: =Validierung!C47 -> Tabelle ausfüllen (Blatt:Tabellen): Materialverbrauch! | J47: 1 punkt für jeden Bereich multipliziert mit jeweiligem % Anteil
A49: bei Bedarf/Änderung | B49: =Validierung!A49 -> Frage16 | C49: =Validierung!B49 -> Welche Maßnahmen zur Verringerung des Ressourcenverbrauchs wurden in den letzten drei Jahren umgesetzt? | D49: =Validierung!C49 -> falls zutreffend, bitte „☐“ durch „X“ ersetzen. Mehrfachauswahl möglich. ☐ Reduktion des Resourcenverbrauchs der erbrachten Dienstleistung (Kerngeschäft) ☐ Digitalisierung und Reduktion Papier- und Büromaterialverbrauch ☐ Wiederverwendung von Materialien oder Produkten ☐ Reparatur und längere Nutzung von Geräten ☐ Vermeidung von Einwegprodukten ☐ Reduzierung oder Vermeidung von Verpackungen ☐ Nachhaltige Beschaffung von Produkten und Dienstleistungen ☐ Schulung oder Sensibilisierung der Beschäftigten ☐ Sonstige Maßnahme: __________ ☐ Keine Maßnahmen umgesetzt | E49: =Validierung!D49 -> 0 | H49: 6 | J49: 25% bei oberen drei Auswahlmöglichkeiten, sonst je 10%, max 100%
A51: bei Bedarf/Änderung | B51: =Validierung!A51 -> Frage 17 | C51: =Validierung!B51 -> Werden beim Einkauf umweltfreundliche Produkte und Dienstleistungen bevorzugt? Nachweis! | D51: =Validierung!C51 -> 0 | E51: =Validierung!D51 -> 0 | F51: =Validierung!E51 -> Einkaufsrichtlinie, Lieferantenkodex, Umweltzertifikate | H51: 1 | J51: ja 100% nein 0
A53: bei Bedarf/Änderung | B53: =Validierung!A53 -> Frage 18 | C53: =Validierung!B53 -> Findet im Unternehmen ein ökologisches Office Management statt? (z.B. geringer Papierverbrauch, Leitungswasser anstatt Mineralwasser, Ökoboxen) | D53: =Validierung!C53 -> 0 | E53: =Validierung!D53 -> 0 | H53: 1 | J53: ja 100% nein 0
A54: Emissionen | G54: 10
A55: ja | B55: =Validierung!A55 -> Frage 19 | C55: =Validierung!B55 -> Liegt ein aktuell gültiger CO2-Fußabdruck (Unternehmen, Produkte) vor? Falls der Fußabdruck nur für Unternehmensteile bzw. einzelne Produkte vorliegt, bitte um Erläuterung. Nachweis! | D55: =Validierung!C55 -> 0 | E55: =Validierung!D55 -> 0 | F55: =Validierung!E55 -> CO₂-Bilanz, CO₂-Zertifikat | H55: 4 | J55: Extern geprüft / zertifiziert - 100 % der Punkte Nach anerkannter Methode erstellt, aber nicht extern geprüft - 75 % der Punkte Interne Berechnung mit nachvollziehbarer Methodik - 50 % der Punkte
A57: ja | B57: =Validierung!A57 -> Frage 20 | C57: =Validierung!B57 -> Wie hoch waren ihr Gesamt-Emissionen über alle Standorte (Unternehmen) in den letzten drei Jahren? (t CO2eq/Jahr) | D57: =Validierung!C57 -> Tabelle ausfüllen (Blatt:Tabellen): Emissionen! | H57: 4 | J57: ´- Daten vorhanden: 50% - +25% Im Jahr 3< Jahr1 +25% Wenn die zwei vorherigen Bedingungen erfüllt sind und noch Maßnahmen beschrieben
H58: 0
A59: bei Bedarf/Änderung | B59: =Validierung!A59 -> Frage 20a | C59: =Validierung!B59 -> Erläutern Sie die Gründe für Änderungen der Gesamt-Emissionen im angegebenen Zeitraum. (z.B. getätigte Energieeffizienzmaßnahmen/ nachhaltige Mobilität / weniger Dienstreisen / nachhaltige Beschaffung / effiziente IT und Rechenzentren / Sonstige) | E59: =Validierung!D59 -> 0 | H59: 0
A61: ja | B61: =Validierung!A61 -> Frage 21 | C61: =Validierung!B61 -> Wenn Sie in den letzten zwei Jahren ein (neues) Projekt zum Thema "Klimaschutz/Klimaforschung" durchgeführt haben, haben Sie hier die Gelegenheit dieses kurz vorzustellen. Nachweis! | D61: =Validierung!C61 -> 0 | E61: =Validierung!D61 -> 0 | F61: =Validierung!E61 -> Projektbeschreibung, link | H61: 2 | J61: volle Punkte wenn inhaltlich neues Projekt & bisher nicht genannt im FB, sonst 0
A62: Mobilität | G62: 10
...

Sheet Tabellen
A1: Fragen betreffen alle Standorte des Unternehmens:
A2: Hinweis: Bei Gesamtverbräuchen sind alle relevanten Standorte des validierten Unternehmens im betreffenden Land zu berücksichtigen. Gleichartige Standorte können zusammengefasst werden. Netzbezug und PV sind getrennt auszuweisen.
A4: Frage 7: | B4: Jahresstromverbrauch/
B5: Jahr | C5: Standort 1:…........[MWh] | D5: Standort 2:…........[MWh] | E5: Standort 3:…........[MWh] | F5: Standort n:…........[MWh]
B6: 2023
B7: 2024
B8: 2025
A11: Frage 8: | B11: Wärmeverbrauch | C11: Standort 1:…........ | E11: Standort 2:…........ | G11: Standort 3:…........
B12: Jahr | C12: [MWh] | D12: davon Anteil Prozesswärme (%) | E12: [MWh] | F12: davon Anteil Prozesswärme (%) | G12: [MWh] | H12: davon Anteil Prozesswärme (%)
B13: 2023
B14: 2024
B15: 2025
A18: Frage 11: | B18: Energieträger & kWh: | C18: Bezugsjahr:
B19: Energieträger / Wärmequelle | C19: Verbrauch in MWh/Jahr | D19: Anteil am Gesamtwärmeverbrauch in % | E19: Bemerkung
B20: Erdgas
B21: Heizöl
B22: Fernwärme | E22: Bitte eingesetzte Energieträger anführen, z.B. Hackschnitzel, Abfall, Erdgas, Abwärme
B23: Biomasse
B24: Wärmepumpe | E24: Bitte eingesetzte Stromquelle anführen: z.B. Netzbezug oder PV Strom
B25: Solarthermie
B26: Geothermie
B27: Sonstige | E27: Bitte erläutern
B28: Summe | C28: =SUM(C20:C27) -> 0 | D28: =SUM(D20:D27) -> 0
A31: Frage 13: | B31: Energieeffizienzklasse
B32: Standort | C32: HWB kWh/m² BGF-Ref | D32: BGF (m²)
B33: Standort 1
B34: Standort 2
B35: Standort 3
B36: Standort 4
B37: ggf. weitere Zeilen einfügen
A40: Frage 15a: | B40: Materialverbrauch | C40: Bezugsjahr:
B41: Material/Ressource | C41: Jahresverbrauch | D41: Einheit [z.B. kg, Stück, Liter...] | E41: Nachhaltiger/recycelter Anteil [%]
A53: Frage 20: | B53: Emissionen
B54: Jahr | C54: Emissionen [ t CO2eq]
B55: 2023
B56: 2024
B57: 2025
A60: Frage 22a: | B60: Antriebsart | C60: Bezugsjahr:
B61: Antriebsart | C61: Anzahl Fahrzeuge
B62: Diesel
...

Sheet Auswahlmöglichkeiten
B1: ja
B2: nein
B3: teilweise
B6: Energieverbrauch
B7: Treibhausgasemissionen
B8: Ressourcenverbrauch
B9: Abfall
B10: Wasserverbrauch
B11: Mobilität und Transport
B12: Sonstige
B15: Zertifizierung
B16: Gütesiegel
... B62: Sonstige Energieprojekte

Sheet Ergebnisübersicht

Sheet Rückfragen
