Workbook

Sheet Deckblatt
C4: Ergebnis der Validierung zum
C5: Verfahren | D5: 2026 / 2027
C6: Validierung | D6: Lebensmittel
C7: Zeitraum Validierung | D7: xxx 2026
B11: Prüf ID Nummer: | C11: 2026 xx xxxx
B13: Name des Unternehmens | C13: =Lebensmittel!C7 -> 0
B14: Adresse | C14: =Lebensmittel!C8 -> 0
B15: Branche | C15: =Lebensmittel!C9 -> 0
B16: Markenname | C16: =Lebensmittel!C10 -> 0
B18: Ergebnis
C19: Mögliche Punkte | D19: Erreichte Punkte | E19: Anteil
B20: =Lebensmittel!B19 -> Produktart | C20: =Lebensmittel!C19 -> 35 | D20: =Lebensmittel!D19 -> 0 | E20: =D20/C20 -> 0
B21: =Lebensmittel!B20 -> Vorkette | C21: =Lebensmittel!C20 -> 20 | D21: =Lebensmittel!D20 -> 0 | E21: =D21/C21 -> 0
B22: =Lebensmittel!B21 -> Herstellung | C22: =Lebensmittel!C21 -> 20 | D22: =Lebensmittel!D21 -> 0 | E22: =D22/C22 -> 0
B23: =Lebensmittel!B22 -> Verpackung/Verwertung/Entsorgung | C23: =Lebensmittel!C22 -> 20 | D23: =Lebensmittel!D22 -> 0 | E23: =D23/C23 -> 0
B24: =Lebensmittel!B23 -> Distribution | C24: =Lebensmittel!C23 -> 5 | D24: =Lebensmittel!D23 -> 0 | E24: =D24/C24 -> 0
B25: Summe | C25: =SUM(C20:C24) -> 100 | D25: =SUM(D20:D24) -> 0 | E25: =D25/C25 -> 0
B27: validiert von:
C32: ALLPLAN GmbH
C33: Schwindgasse 10, 1040 Wien
C34: www.allplan.at
B36: Mit Erreichen / Übertreffen der geforderten Benchmark von 51 % wird - gemäß den Statuten der
B37: geschützten EU-Gewährleistungsmarke - das GREEN BRAND Germany 2026/2027 Gütesiegel
B38: verliehen!
B40: Gültigkeit bis 31.12.2027
B42: Norbert R. L u x
B43: Geschäftsführer

Sheet Basisinformationen
M3: Ausfüllhilfe / Legende
M4: Markierung / Feld | N4: Art | O4: Was ist zu tun?
M5: Blaues Feld | N5: Freitextfeld | O5: bitte geforderte Daten/Erklärungen einfügen
M6: Oranges Feld | N6: Auswahlfeld | O6: Bitte eine Antwort aus dem Dropdown-Menü auswählen.
N7: □ Kästchen | O7: Bitte ein „X“ statt dem Kästchen neben der zutreffenden Antwort eintragen. Mehrfachauswahl ist möglich, wenn mehrere Antworten zutreffen.
M8: Unterstrichener Text | N8: Verweis auf Tabellenblatt | O8: Bitte die dazugehörige Tabelle im Blatt „Tabellen“ ausfüllen.
M9: Spalte "Erforderlicher Nachweis" | N9: Erforderlicher Nachweis | O9: Bitte passende Dokumente oder Angaben beifügen, z. B. Rechnungen, Zertifikate oder Auswertungen und die konkrete Dokumentbezeichnung/den link in der Spalte "erforderlicher Nachweis" eintragen.
M11: Bitte vergewissern Sie sich bei Einreichung, - dass alle Fragen umfassend beantwortet wurden - alle beizufügenden Dokumente auch mitgesandt werden (ggf. via wetransfer) - und bei den entsprechenden Fragen die konkrete Dokumentbezeichnung genannt wird. Hinweis: ein Verweis z.B. „siehe unseren Nachhaltigkeitsbericht“ genügt nicht, sondern bitte immer einen Hinweis/link zur entsprechenden Passage anführen. Damit vermeiden Sie unnötige Nachfragen bei der Auswertung, die Zeit kosten und auch höhere Gebühren zur Folge haben können! – Danke!

Sheet Lebensmittel
B3: Produktefragebogen (food)
B7: Name des Unternehmens
B8: Adresse
B9: Branche
B10: Name des Produktes
B11: Beschreibung des gewählten Produktes
B12: Kontaktperson/ Funktion
B13: e-mail
B14: Telefon
B16: Ergebnis
C18: Mögliche Punkte | D18: Erreichte Punkte | E18: Anteil | G18: Jahr 1 | H18: Jahr 2 | I18: Jahr 3 | J18: Jahr 4
B19: =Validierung!A3 -> Produktart | C19: =Auswertung!G3 -> 35 | D19: =SUM(Auswertung!I4:I14) -> 0 | E19: =D19/C19 -> 0 | G19: =D19 -> 0
B20: =Validierung!A16 -> Vorkette | C20: =Auswertung!G16 -> 20 | D20: =SUM(Auswertung!I17:I29) -> 0 | E20: =D20/C20 -> 0 | G20: =D20 -> 0
B21: =Validierung!A30 -> Herstellung | C21: =Auswertung!G30 -> 20 | D21: =SUM(Auswertung!I31:I53) -> 0 | E21: =D21/C21 -> 0 | G21: =D21 -> 0
B22: =Validierung!A54 -> Verpackung/Verwertung/Entsorgung | C22: =Auswertung!G54 -> 20 | D22: =SUM(Auswertung!I55:I65) -> 0 | E22: =D22/C22 -> 0 | G22: =D22 -> 0
B23: =Validierung!A66 -> Distribution | C23: =Auswertung!G66 -> 5 | D23: =SUM(Auswertung!I67:I71) -> 0 | E23: =D23/C23 -> 0 | G23: =D23 -> 0
B24: Summe | C24: =SUM(C19:C23) -> 100 | D24: =SUM(D19:D23) -> 0 | E24: =D24/C24 -> 0 | G24: =D24 -> 0
B26: Bearbeiterin | C26: xxxx
C34: ALLPLAN GmbH
C35: Schwindgasse 10, 1040 Wien
C36: M: +43 676 842 225 220
C37: Firmenbuchnummer: 94000k
C38: Handelsgericht Wien
C39: www.allplan.at

Sheet Validierung
A1: Frage Nr. | B1: Fragebogen Lebensmittel | C1: Auswahl-Antwort (bitte auswählen) | D1: Erklärungen | E1: Erforderlicher Nachweis: Bitte führen Sie die genaue Bezeichnung der beigefügten Nachweise in der jeweiligen Zelle an. (Hinweise überschreiben) | F1: Max. Punkteanzahl Kategorien | G1: max. Punkte je Frage
A2: Frage 0 | B2: Handelt es sich beim eingereichten Produkt um ein Einzelprodukt (ggf. in unterschiedlichen Größen/Verpackungen) oder um eine Produktlinie? (bei Auswahl Punkt c ist der Fragebogen für jede Kategorie separat auszufüllen)
A3: Produktart | F3: 35
A4: Frage 1a | B4: Um welche Kategorie von Lebensmittel handelt es sich? | G4: 10
A6: Frage 1b | B6: In welchem Ausmaß ist das von Ihnen angebotene Produkt als "verarbeitet" einzustufen entsprechend der NOVA Skala?
A8: Frage 2 | B8: Beinhaltet ihr Produkt Inhaltsstoffe tierischen Ursprungs falls ja: bitte ggf. relevante Zertifikate beilegen | E8: Zertifikate | G8: 2.5
A10: Frage 3 | B10: Inwiefern ist das von ihnen angebotene Produkt ökologisch nachhaltiger als vergleichbare Produkte? Nachweis! | C10: falls zutreffend, bitte „☐“ durch „X“ ersetzen. Mehrfachauswahl möglich. ☐ ja bei Herstellung ☐ Verpackung ☐ Transport | E10: ggf. link, Verweis | G10: 2.5
A12: Frage 4 | B12: Was trifft auf die 3 Hauptkomponenten des Produktes zu (bezogen auf den Gewichtsanteil) Nachweis! | E12: Zertifikate | G12: 10
A14: Frage 5 | B14: Wodurch wird die ökologische Nachhaltigkeit der Produkte bestätigt? Nachweis! | C14: falls zutreffend, bitte „☐“ durch „X“ ersetzen. Mehrfachauswahl möglich. ☐ Anerkanntes, extern geprüftes, umfassendes Nachhaltigkeits-Zertifikat für das Produkt (z.B. EU Ecolabel) ☐ Anerkanntes, extern geprüftes, umfassendes Zertifikat für die Produkt-Verpackung ☐ Anerkanntes, extern geprüftes umfassendes Zertifikat für das Produkt mit thematischer Beschränkung ☐ Anerkanntes, extern geprüftes umfassendes Zertifikat für die Produkt-Verpackung mit thematischer Beschränkung ☐ Anerkanntes, extern geprüftes Zertifikat für Teile des Produktes oder der Verpackung ☐ Staatlich anerkannte Zertifizierungen des Herstellers ohne direkten Produktnachweis, z.B. ISO 14001 ☐ Sonstige Nachweise oder Einschätzungen | E14: Zertifikate | G14: 10
A16: Vorkette | F16: 20
A17: Frage 6 | B17: Nennen Sie Namen und Standorte (Logistikzentren) ihrer 5 Hauptlieferanten | G17: 5
A18: Frage 6a | B18: Sind die Rohstoffe, welche Sie für Ihr Produkt einsetzen, zum überwiegenden Teil (> 75 % der eingesetzten Rohstoffe) regional (Radius 100 km) verfügbar?
B19: Bitte um kurze Erklärung der Herkunft
A20: Frage 6b | B20: Importieren Sie benötigte Rohstoffe, welche auch regional (Radius 100km) verfügbar wären?
B21: Wenn ja, wodurch wird der Import gerechtfertigt.
A23: Frage 7 | B23: Welche Maßnahmen werden gesetzt um den Transport der Rohstoffe zum Produktionsstandort effizienter zu transportieren? | C23: falls zutreffend, bitte „☐“ durch „X“ ersetzen. Mehrfachauswahl möglich. ☐ Logistikmaßnahmen (weniger Transport-km) ☐ Alternative Treibstoffe (z.B. E-LKW) ☐ Umweltschonende Transportmittel (z.B. Bahn) ☐ Sonstige | G23: 5
A25: Frage 8 | B25: Beinhaltet Ihr Produkt chemische Zusätze welche über die erlaubten Zusätze der EU Bio-Verordnung hinausgehen? Nachweis! | E25: Zutatenliste | G25: 2.5
A27: Frage 9 | B27: Beinhaltet Ihr Produkt gentechnisch veränderte Zusätze bzw. wurden gentechnisch veränderte Futtermittel eingesetzt? | G27: 2.5
A29: Frage 10 | B29: Verwenden Sie Rohstoffe, welche über Lebensmittelgütesiegel und/oder Soziallabels verfügen? | D29: Tabelle ausfüllen (Blatt:Tabellen): Rohstoff/Gütesiegel | G29: 5
A30: Herstellung | F30: 20
A31: Frage 11 | B31: Stellen Sie das Produkt im eigenen Unternehmen her? (Verarbeitung im eigenen Unternehmen) | G31: 3
A32: Frage 11a | B32: Wo wird der größte Teil der Fertigung des Produktes (> als 75% der Produktionsschritte) vorgenommen?
B33: Beschreiben Sie kurz die wichtigsten Produktionsschritte & wo diese vorgenommen werden
A35: Frage 12a | B35: Welche Energieträger setzt ihr Unternehmen ein? (Strom) | D35: für Strom - füllen Sie Tabellenblatt Strom pro Standort aus und legen sie ggf. Ökostromzertifikate bei | G35: 5
A36: Frage 12b | B36: Welche Energieträger setzt ihr Unternehmen ein? (Wärme) | D36: für Wärme - füllen Sie Tabellenblatt Wärme pro Standort aus.
A37: Frage 12c | B37: Bei Produktion durch externen Hersteller: führen Sie den Strom- und Wärmemix des Herstellers an. | D37: Tabelle ausfüllen (Blatt:Tabellen): externer Hersteller
A39: Frage 13 | B39: Werden in der Produktion Maßnahmen - welche über den gesetzlich verpflichteten Standard hinaus gehen - unternommen, um Ihren Energieverbrauch (Strom- und Wärmeenergie) möglichst effizient zu gestalten? | G39: 2
B40: Bitte Maßnahmen & erzielte Einsparung beschreiben
A42: Frage 14 | B42: Werden in der Produktion Maßnahmen - welche über den gesetzlich verpflichteten Standard hinaus gehen - unternommen, um mit Wasser und Abwasser möglichst effizient und umweltschonend umzugehen? | G42: 2
B43: Bitte Maßnahmen & erzielte Einsparung beschreiben
A45: Frage 15 | B45: Werden in der Produktion Maßnahmen - welche über den gesetzlich verpflichteten Standard hinaus gehen - unternommen, um mit sonstigen Ressourcen (Materialien, Hilfsstoffe, Zuschlagsstoffe etc.) möglichst effizient und umweltschonend umzugehen? Bitte Maßnahmen beschreiben | G45: 2
B46: Bitte Maßnahmen & erzielte Einsparung beschreiben
A48: Frage 16 | B48: Werden in der Produktion Maßnahmen - welche über den gesetzlich verpflichteten Standard hinaus gehen - unternommen, um Abfall (Menge des Abfalls, Art der Abfälle) zu vermeiden oder zu reduzieren? | G48: 2
B49: Bitte Maßnahmen & erzielte Einsparung beschreiben
A51: Frage 17 | B51: Wurde in den letzten 3 Jahren eine Erhebung zum CO2-Fußabdruck (Produkt) durchgeführt? Nachweis! | E51: Fußabdruck | G51: 4
A52: Frage 17a | B52: Wie hat sich der Wert in den letzten Jahren entwickelt?
A53: Frage 17b | B53: Veröffentlichen Sie die Ergebnisse (wo?)?
A54: Verpackung/Verwertung/Entsorgung | F54: 20
A55: Frage 18 | B55: Wurden bereits Maßnahmen unternommen, um die Umwelteinflüsse durch die Verpackung zu reduzieren | C55: falls zutreffend, bitte „☐“ durch „X“ ersetzen. Mehrfachauswahl möglich. ☐ Mehrwegverpackung ☐ Gewichtsreduktion ☐ Materialien-tausch ☐ Einsatz recyclbarer Materialen ☐ Maßnahmen zur Reduktion der Umverpackung ☐ Andere Maßnahmen | G55: 10
A56: Frage 18b | B56: Wurden bereits Maßnahmen unternommen, um die Umwelteinflüsse durch Lebensmittelverschwendung zu reduzieren
A58: Frage 19 | B58: Beziehen Sie den überwiegenden Teil der Verpackungsmaterialien (> 90 % des Gesamtgewichts der Verpackung) regional (Radius <100km)? | G58: 2
A60: Frage 20 | B60: Füllen Sie die Tabelle zu Kennzahlen der Produktverpackung aus! | D60: Tabelle ausfüllen (Blatt:Tabellen): Produkt | G60: 2
A62: Frage 21 | B62: Ist die Verpackung für Endkunden leicht in einzelne Bestandteile zerlegbar, um die fachgerechte Verwertung der Materialien zu ermöglichen? | G62: 4
B63: in welche Bestandteile (Material) lässt sich die Verpackung zerlegen?
A65: Frage 22 | B65: Informieren Sie den Verbraucher über richtigen Umgang mit der Verpackung? Wie/wo? (am Produkt selbst, homepage..) | C65: falls zutreffend, bitte „☐“ durch „X“ ersetzen. Mehrfachauswahl möglich. ☐ Information über Mehrwegsystem ☐ Richtigen Umgang mit der Verpackung (Mülltrennung,Recycling..) ☐ Andere Maßnahmen | G65: 2
A66: Distribution | F66: 5
A67: Frage 23 | B67: Wie viel Prozent der jährlichen Produktionsmengen werden über-regional (Radius >100km) vertrieben? X% . | G67: 1.25
A69: Frage 23a | B69: Wohin wird der größte Teil des Produktes/der Produkte (> als 75% der Produkte) vertrieben? | G69: 1.25
A71: Frage 24 | B71: Welche Maßnahmen werden gesetzt um die Distribution nachhaltiger zu gestalten? | C71: falls zutreffend, bitte „☐“ durch „X“ ersetzen. Mehrfachauswahl möglich. ☐ Logistikmaßnahmen (weniger Transport-km) ☐ Alternative Treibstoffe (z.B. E-LKW) ☐ Umweltschonende Transportmittel (z.B. Bahn) ☐ Sonstige | G71: 2.5
F74: Summe | G74: =SUM(G2:G73) -> 100

Sheet Auswertung
A1: Reval. Verpflichtendes Update | B1: Frage Nr. | C1: Fragebogen Lebensmittel | D1: =Validierung!C1 -> Auswahl-Antwort (bitte auswählen) | E1: =Validierung!D1 -> Erklärungen | F1: Erforderlicher Nachweis | G1: Max. Punkteanzahl Kategorien | H1: max. Punkte je Frage | I1: Erreichte Punkte | J1: Kommentar
B2: Frage 0 | C2: Handelt es sich beim eingereichten Produkt um ein Einzelprodukt (ggf. in unterschiedlichen Größen/Verpackungen) oder um eine Produktlinie? (bei Auswahl Punkt c ist der Fragebogen für jede Kategorie separat auszufüllen) | D2: =Validierung!C2 -> 0 | E2: =Validierung!D2 -> 0
B3: Produktart | G3: 35
A4: bei Bedarf/Änderung | B4: Frage 1a | C4: Um welche Kategorie von Lebensmittel handelt es sich? | D4: =Validierung!C4 -> 0 | E4: =Validierung!D4 -> 0 | G4: =H4/G3 -> 0.28571429 | H4: 10 | J4: Punktevergabe siehe Auswahlmöglichkeiten
A6: bei Bedarf/Änderung | B6: Frage 1b | C6: In welchem Ausmaß ist das von Ihnen angebotene Produkt als "verarbeitet" einzustufen entsprechend der NOVA Skala? | D6: =Validierung!C6 -> 0 | E6: =Validierung!D6 -> 0 | J6: Zielsetzung: mehr Punkte für unverarbeitete Produkte allgemein
A8: bei Bedarf/Änderung | B8: Frage 2 | C8: Beinhaltet ihr Produkt Inhaltsstoffe tierischen Ursprungs falls ja: bitte ggf. relevante Zertifikate beilegen | D8: =Validierung!C8 -> 0 | E8: =Validierung!D8 -> 0 | F8: Zertifikate | G8: =H8/G3 -> 0.071428571 | H8: 2.5 | J8: konvent. 0 % BIO 25% nein 100
A10: bei Bedarf/Änderung | B10: Frage 3 | C10: Inwiefern ist das von ihnen angebotene Produkt ökologisch nachhaltiger als vergleichbare Produkte? Nachweis! | D10: =Validierung!C10 -> falls zutreffend, bitte „☐“ durch „X“ ersetzen. Mehrfachauswahl möglich. ☐ ja bei Herstellung ☐ Verpackung ☐ Transport | E10: =Validierung!D10 -> 0 | F10: ggf. link, Verweis | G10: =H10/G3 -> 0.071428571 | H10: 2.5 | J10: 30% pro Kategorie, 100% wenn alle
A12: bei Bedarf/ Änderung | B12: Frage 4 | C12: Was trifft auf die 3 Hauptkomponenten des Produktes zu (bezogen auf den Gewichtsanteil) Nachweis! | D12: =Validierung!C12 -> 0 | E12: =Validierung!D12 -> 0 | F12: Zertifikate | G12: =H12/G3 -> 0.28571429 | H12: 10 | J12: konvent. 0 % BIO 75% darüber hinaus 100%
C13: https://fet-ev.eu/nova-klassifikation/
A14: ja (aktuelles Jahr) | B14: Frage 5 | C14: Gibt es bestehende Zertifizierungen bzw. Umwelt-oder Sozial-Labels für Ihr Produkt? Nachweis! | D14: =Validierung!C14 -> falls zutreffend, bitte „☐“ durch „X“ ersetzen. Mehrfachauswahl möglich. ☐ Anerkanntes, extern geprüftes, umfassendes Nachhaltigkeits-Zertifikat für das Produkt (z.B. EU Ecolabel) ☐ Anerkanntes, extern geprüftes, umfassendes Zertifikat für die Produkt-Verpackung ☐ Anerkanntes, extern geprüftes umfassendes Zertifikat für das Produkt mit thematischer Beschränkung ☐ Anerkanntes, extern geprüftes umfassendes Zertifikat für die Produkt-Verpackung mit thematischer Beschränkung ☐ Anerkanntes, extern geprüftes Zertifikat für Teile des Produktes oder der Verpackung ☐ Staatlich anerkannte Zertifizierungen des Herstellers ohne direkten Produktnachweis, z.B. ISO 14001 ☐ Sonstige Nachweise oder Einschätzungen | E14: =Validierung!D14 -> 0 | F14: Zertifikate | G14: =H14/G3 -> 0.28571429 | H14: 10 | J14: Bewertung lt. Vorgaben Bewertung Zertifikate
B16: Vorkette | G16: 20
A17: bei Bedarf/Änderung | B17: Frage 6 | C17: Nennen Sie Namen und Standorte (Logistikzentren) ihrer 5 Hauptlieferanten | D17: =Validierung!C17 -> 0 | E17: =Validierung!D17 -> 0 | G17: 0.25 | H17: =G17*$G$16 -> 5
A18: bei Bedarf/Änderung | B18: Frage 6a | C18: Sind die Rohstoffe, welche Sie für Ihr Produkt einsetzen, zum überwiegenden Teil (> 75 % der eingesetzten Rohstoffe) regional (Radius 100 km) verfügbar? | D18: =Validierung!C18 -> 0 | E18: =Validierung!D18 -> 0
A19: bei Bedarf/Änderung | C19: Bitte um kurze Erklärung der Herkunft | D19: =Validierung!C19 -> 0 | E19: =Validierung!D19 -> 0 | J19: 100% alles regional, 75% teilweise regional/im Land bzw., 50% bei nicht verfügbar regional und import aus Europa oder Afrika, sonst 0%
A20: bei Bedarf/Änderung | B20: Frage 6b | C20: Importieren Sie benötigte Rohstoffe, welche auch regional (Radius 100km) verfügbar wären? | D20: =Validierung!C20 -> 0 | E20: =Validierung!D20 -> 0
A21: bei Bedarf/Änderung | C21: Wenn ja, wodurch wird der Import gerechtfertigt. | D21: =Validierung!C21 -> 0 | E21: =Validierung!D21 -> 0
A23: ja | B23: Frage 7 | C23: Welche Maßnahmen werden gesetzt um den Transport der Rohstoffe zum Produktionsstandort effizienter zu transportieren? | D23: =Validierung!C23 -> falls zutreffend, bitte „☐“ durch „X“ ersetzen. Mehrfachauswahl möglich. ☐ Logistikmaßnahmen (weniger Transport-km) ☐ Alternative Treibstoffe (z.B. E-LKW) ☐ Umweltschonende Transportmittel (z.B. Bahn) ☐ Sonstige | E23: =Validierung!D23 -> 0 | G23: 0.25 | H23: =G23*G16 -> 5 | J23: 30% pro Kategorie, 100% wenn alle
A25: bei Bedarf/Änderung | B25: Frage 8 | C25: Beinhaltet Ihr Produkt chemische Zusätze welche über die erlaubten Zusätze der EU Bio-Verordnung hinausgehen? Nachweis! | D25: =Validierung!C25 -> 0 | E25: =Validierung!D25 -> 0 | F25: Zutatenliste | G25: 0.125 | H25: =G25*$G$16 -> 2.5 | J25: Plausibilität prüfen, nein: volle P, ja 0 P
A27: bei Bedarf/Änderung | B27: Frage 9 | C27: Beinhaltet Ihr Produkt gentechnisch veränderte Zusätze bzw. wurden gentechnisch veränderte Futtermittel eingesetzt? | D27: =Validierung!C27 -> 0 | E27: =Validierung!D27 -> 0 | G27: 0.125 | H27: =G27*$G$16 -> 2.5 | J27: Plausibilität prüfen, nein: volle P, ja 0 P
A29: ja (aktuelle Zertifikate) | B29: Frage 10 | C29: Verwenden Sie Rohstoffe, welche über Lebensmittelgütesiegel und/oder Soziallabels verfügen? | D29: =Validierung!C29 -> 0 | E29: =Validierung!D29 -> Tabelle ausfüllen (Blatt:Tabellen): Rohstoff/Gütesiegel | G29: 0.25 | H29: =G29*G16 -> 5 | J29: Punkte: % Anteil Rohstoffe *Gütesiegel (alle rel. Rohstoffe Gütesiegel: 100%), Bewertung Gütesiegel lt. Tabelle Zertifikate (z.B. Eco Bio oder Demeter 100%. Fairtrade 75%)
B30: Herstellung | G30: 20
A31: bei Bedarf/Änderung | B31: Frage 11 | C31: Stellen Sie das Produkt im eigenen Unternehmen her? (Verarbeitung im eigenen Unternehmen) | D31: =Validierung!C31 -> 0 | E31: =Validierung!D31 -> 0 | G31: 0.15 | H31: =G31*$G$30 -> 3
B32: Frage 11a | C32: Wo wird der größte Teil der Fertigung des Produktes (> als 75% der Produktionsschritte) vorgenommen? | D32: =Validierung!C32 -> 0 | E32: =Validierung!D32 -> 0 | J32: ja und regional => 80%; nein und Europa =>50%; nein und sonstiges=>0%
C33: Beschreiben Sie kurz die wichtigsten Produktionsschritte & wo diese vorgenommen werden | D33: =Validierung!C33 -> 0 | E33: =Validierung!D33 -> 0
A35: bei Bedarf/Änderung | B35: Frage 12a | C35: Welche Energieträger setzen Sie für die Herstellung Ihres Produktes ein? (Strom) | D35: =Validierung!C35 -> 0 | E35: =Validierung!D35 -> für Strom - füllen Sie Tabellenblatt Strom pro Standort aus und legen sie ggf. Ökostromzertifikate bei | G35: 0.25 | H35: =G35*G30 -> 5 | J35: Punkte analog zu % Anteil EE Strom; wenn eigene Produktion: 100% vom Mittelwert der Antworten Frage 9; sonst 50% vom Mittelwert Frage 9 und Mittelwert Frage 9b (max. 2.5)
B36: Frage 12b | C36: Welche Energieträger setzen Sie für die Herstellung Ihres Produktes ein? (Wärme) | D36: =Validierung!C36 -> 0 | E36: =Validierung!D36 -> für Wärme - füllen Sie Tabellenblatt Wärme pro Standort aus. | J36: Punkte analog zu % Anteil EE Wärme; wenn eigene Produktion: 100% vom Mittelwert der Antworten Frage 9; sonst 50% vom Mittelwert Frage 9 und Mittelwert Frage 9b (max. 2.5)
B37: Frage 12c | C37: Bei Produktion durch externen Hersteller: führen Sie den Strom- und Wärmemix des Herstellers an. | D37: =Validierung!C37 -> 0 | E37: =Validierung!D37 -> Tabelle ausfüllen (Blatt:Tabellen): externer Hersteller
A39: ja (aktuelles Jahr) | B39: Frage 13 | C39: Werden in der Produktion Maßnahmen - welche über den gesetzlich verpflichteten Standard hinaus gehen - unternommen, um Ihren Energieverbrauch (Strom- und Wärmeenergie) möglichst effizient zu gestalten? | D39: =Validierung!C39 -> 0 | E39: =Validierung!D39 -> 0 | G39: 0.1 | H39: =G39*$G$30 -> 2 | J39: Ja und Maßnahmen beschrieben => 50%; Ja und Maßnahmen beschrieben und Einsparungen => 100%; nein => 0%; ja und keine Info => 0%; nicht relevant und plausible Erklärung => 100%; sonst 0%
C40: Bitte Maßnahmen & erzielte Einsparung beschreiben | D40: =Validierung!C40 -> 0 | E40: =Validierung!D40 -> 0
A42: ja (aktuelles Jahr) | B42: Frage 14 | C42: Werden in der Produktion Maßnahmen - welche über den gesetzlich verpflichteten Standard hinaus gehen - unternommen, um mit Wasser und Abwasser möglichst effizient und umweltschonend umzugehen? | D42: =Validierung!C42 -> 0 | E42: =Validierung!D42 -> 0 | G42: 0.1 | H42: =G42*$G$30 -> 2 | J42: Ja und Maßnahmen beschrieben => 50%; Ja und Maßnahmen beschrieben und Einsparungen => 100%; nein => 0%; ja und keine Info => 0%; nicht relevant und plausible Erklärung => 100%; sonst 0%
C43: Bitte Maßnahmen & erzielte Einsparung beschreiben | D43: =Validierung!C43 -> 0 | E43: =Validierung!D43 -> 0
A45: ja (aktuelles Jahr) | B45: Frage 15 | C45: Werden in der Produktion Maßnahmen - welche über den gesetzlich verpflichteten Standard hinaus gehen - unternommen, um mit sonstigen Ressourcen (Materialien, Hilfsstoffe, Zuschlagsstoffe etc.) möglichst effizient und umweltschonend umzugehen? Bitte Maßnahmen beschreiben | D45: =Validierung!C45 -> 0 | E45: =Validierung!D45 -> 0 | G45: 0.1 | H45: =G45*$G$30 -> 2 | J45: Ja und Maßnahmen beschrieben => 50%; Ja und Maßnahmen beschrieben und Einsparungen => 100%; nein => 0%; ja und keine Info => 0%; nicht relevant und plausible Erklärung => 100%; sonst 0%
C46: Bitte Maßnahmen & erzielte Einsparung beschreiben | D46: =Validierung!C46 -> 0 | E46: =Validierung!D46 -> 0
A48: ja (aktuelles Jahr) | B48: Frage 16 | C48: Werden in der Produktion Maßnahmen - welche über den gesetzlich verpflichteten Standard hinaus gehen - unternommen, um Abfall (Menge des Abfalls, Art der Abfälle) zu vermeiden oder zu reduzieren? | D48: =Validierung!C48 -> 0 | E48: =Validierung!D48 -> 0 | G48: 0.1 | H48: =G48*$G$30 -> 2 | J48: Ja und Maßnahmen beschrieben => 50%; Ja und Maßnahmen beschrieben und Einsparungen => 100%; nein => 0%; ja und keine Info => 0%; nicht relevant und plausible Erklärung => 100%; sonst 0%
C49: Bitte Maßnahmen & erzielte Einsparung beschreiben | D49: =Validierung!C49 -> 0 | E49: =Validierung!D49 -> 0
A51: ja (aktuelles Jahr) | B51: Frage 17 | C51: Wurde in den letzten 3 Jahren eine Erhebung zum CO2-Fußabdruck (Produkt) durchgeführt? Nachweis! | D51: =Validierung!C51 -> 0 | E51: =Validierung!D51 -> 0 | F51: Fußabdruck | G51: 0.2 | H51: =G51*$G$30 -> 4 | J51: Punktevergabe: 50% Punkte für JA und 30% Zusatzpunkte für Reduktion und 20% Veröffentlichung
B52: Frage 17a | C52: Wie hat sich der Wert in den letzten Jahren entwickelt? | D52: =Validierung!C52 -> 0 | E52: =Validierung!D52 -> 0
B53: Frage 17b | C53: Veröffentlichen Sie die Ergebnisse (wo?)? | D53: =Validierung!C53 -> 0 | E53: =Validierung!D53 -> 0
B54: Verpackung/Verwertung/Entsorgung | G54: 20
A55: ja (aktuelles Jahr) | B55: Frage 18 | C55: Wurden bereits Maßnahmen unternommen, um die Umwelteinflüsse durch die Verpackung zu reduzieren | D55: =Validierung!C55 -> falls zutreffend, bitte „☐“ durch „X“ ersetzen. Mehrfachauswahl möglich. ☐ Mehrwegverpackung ☐ Gewichtsreduktion ☐ Materialien-tausch ☐ Einsatz recyclbarer Materialen ☐ Maßnahmen zur Reduktion der Umverpackung ☐ Andere Maßnahmen | E55: =Validierung!D55 -> 0 | G55: 0.5 | H55: =G55*$G$54 -> 10 | J55: 20% pro ausgewählter Kategorie (nur bei plausibler Beschreibung)
B56: Frage 18b | C56: Wurden bereits Maßnahmen unternommen, um die Umwelteinflüsse durch Lebensmittelverschwendung zu reduzieren | D56: =Validierung!C56 -> 0 | E56: =Validierung!D56 -> 0
A58: bei Bedarf/Änderung | B58: Frage 19 | C58: Beziehen Sie den überwiegenden Teil der Verpackungsmaterialien (> 90 % des Gesamtgewichts der Verpackung) regional (Radius <100km)? | D58: =Validierung!C58 -> 0 | E58: =Validierung!D58 -> 0 | G58: 0.1 | H58: =G58*$G$54 -> 2 | J58: Ja=>100%; nein=>0%; nicht möglich und Begründung =>50%
A60: bei Bedarf/Änderung | B60: Frage 20 | C60: Füllen Sie die Tabelle zu Kennzahlen der Produktverpackung aus! | D60: =Validierung!C60 -> 0 | E60: =Validierung!D60 -> Tabelle ausfüllen (Blatt:Tabellen): Produkt | G60: 0.1 | H60: =G60*$G$54 -> 2 | J60: Wenn 0-5%>> 100% 6-10%>> 50% 11-15%>>30% sonst>>0%; bei mehreren Angaben: Mittelwert Verpackungsanteil heranziehen
A62: bei Bedarf/Änderung | B62: Frage 21 | C62: Ist die Verpackung für Endkunden leicht in einzelne Bestandteile zerlegbar, um die fachgerechte Verwertung der Materialien zu ermöglichen? | D62: =Validierung!C62 -> 0 | E62: =Validierung!D62 -> 0 | G62: 0.2 | H62: =G62*$G$54 -> 4 | J62: ja und Erklärung 100%, sonst 0
C63: in welche Bestandteile (Material) lässt sich die Verpackung zerlegen? | D63: =Validierung!C63 -> 0 | E63: =Validierung!D63 -> 0
A65: bei Bedarf/Änderung | B65: Frage 22 | C65: Informieren Sie den Verbraucher über richtigen Umgang mit der Verpackung? Wie/wo? (am Produkt selbst, homepage..) | D65: =Validierung!C65 -> falls zutreffend, bitte „☐“ durch „X“ ersetzen. Mehrfachauswahl möglich. ☐ Information über Mehrwegsystem ☐ Richtigen Umgang mit der Verpackung (Mülltrennung,Recycling..) ☐ Andere Maßnahmen | E65: =Validierung!D65 -> 0 | G65: 0.1 | H65: =G65*$G$54 -> 2 | J65: ja und Erklärung 100%, sonst 0
B66: Distribiution | G66: 5
A67: bei Bedarf/Änderung | B67: Frage 23 | C67: Wie viel Prozent der jährlichen Produktionsmengen werden über-regional (Radius >100km) vertrieben? X% . | D67: =Validierung!C67 -> 0 | E67: =Validierung!D67 -> 0 | G67: 0.25 | H67: =$G$66*G67 -> 1.25 | J67: % Punkte: (100% minus angegebener Wert %)
A69: bei Bedarf/Änderung | B69: Frage 23a | C69: Wohin wird der größte Teil des Produktes/der Produkte (> als 75% der Produkte) vertrieben? | D69: =Validierung!C69 -> 0 | E69: =Validierung!D69 -> 0 | G69: 0.25 | H69: =$G$66*G69 -> 1.25 | J69: Region: 100% Land: 75% Europa: 50% sonst: 0%
A71: ja (aktuelles Jahr) | B71: Frage 24 | C71: Welche Maßnahmen werden gesetzt um die Distribution nachhaltiger zu gestalten? | D71: =Validierung!C71 -> falls zutreffend, bitte „☐“ durch „X“ ersetzen. Mehrfachauswahl möglich. ☐ Logistikmaßnahmen (weniger Transport-km) ☐ Alternative Treibstoffe (z.B. E-LKW) ☐ Umweltschonende Transportmittel (z.B. Bahn) ☐ Sonstige | E71: =Validierung!D71 -> 0 | G71: 0.5 | H71: =$G$66*G71 -> 2.5 | J71: 30% pro Kategorie, 100% wenn alle
G74: Summe | H74: =SUM(H2:H73) -> 100 | I74: =SUM(I2:I73) -> 0

Sheet Tabelle
A1: Frage 10: | B1: Rohstoff/Gütesiegel
B2: Rohstoff / Zutat | C2: Hat der Rohstoff ein Gütesiegel? | D2: Welches Gütesiegel? Z.B. Fairtrade | E2: Nachweis / Beilage
A3: Beispiel | B3: z. B. Kakao oder Milch | E3: bitte beilegen
A9: Frage 12a: | B9: Strom | E9: Bezugsjahr:
B10: Stromquelle | C10: Standort 1:…........ | D10: Standort 2:…........ | E10: Standort 3:…........ | F10: Standort ...:…........ | G10: relevante Produktionsstandorte FÜR DAS GEWÄHLTE PRODUKT
B11: Netzbezug: zertifizierter Ökostrom [kWh]
B12: Netzbezug: Strom [kWh] Anteil Erneuerbare lt. Stromversorger [%]
C13: % | D13: % | E13: % | F13: %
B14: Eigene PV-Anlage [kWh]
B15: Sonstiges [kWh]
B16: nicht relevant | C16: FALSE | D16: FALSE | E16: FALSE | F16: FALSE
B17: Summe | C17: =SUM(C11,C12,C14,C15) -> 0 | D17: =SUM(D11,D12,D14,D15) -> 0 | E17: =SUM(E11,E12,E14,E15) -> 0 | F17: =SUM(F11,F12,F14,F15) -> 0
A19: Frage 12b: | B19: Wärme | E19: Bezugsjahr:
B20: Wärmeträger | C20: Standort 1:…........ | D20: Standort 2:…........ | E20: Standort 3:…........ | F20: Standort ...:…........ | G20: relevante Produktionsstandorte FÜR DAS GEWÄHLTE PRODUKT
B21: Erdgas [kWh]
B22: Fernwärme [kWh] Anteil Erneuerbare lt. Fernwärmeanbieter [%]
C23: % | D23: % | E23: % | F23: %
B24: Biomasse / Holz / Pellets [kWh]
B25: Strom (Wärmepumpe)
B26: Öl [kWh]
B27: Sonstiges
B28: nicht relevant | C28: FALSE | D28: FALSE | E28: FALSE | F28: FALSE
B29: Summe | C29: =SUM(C21,C22,C24,C26,C27) -> 0 | D29: =SUM(D21,D22,D24,D26,D27) -> 0 | E29: =SUM(E21,E22,E24,E26,E27) -> 0 | F29: =SUM(F21,F22,F24,F26,F27) -> 0
A32: Frage 12c: | B32: externer Hersteller | E32: Bezugsjahr:
B33: Stromquelle | C33: Hersteller 1:…........ | D33: Hersteller 2:…........ | E33: Hersteller 3:…........ | F33: Hersteller...:…........ | G33: relevante Produktionsstandorte FÜR DAS GEWÄHLTE PRODUKT
B34: Netzbezug: zertifizierter Ökostrom [kWh]
B35: Netzbezug: Strom [kWh] Anteil Erneuerbare lt. Stromversorger [%]
C36: % | D36: % | E36: % | F36: %
B37: Eigene PV-Anlage [kWh]
B38: Sonstiges [kWh]
B39: nicht relevant | C39: FALSE | D39: FALSE | E39: FALSE | F39: FALSE
B40: Summe [kWh] | C40: =SUM(C34,C35,C37,C38) -> 0 | D40: =SUM(D34,D35,D37,D38) -> 0 | E40: =SUM(E34,E35,E37,E38) -> 0 | F40: =SUM(F34,F35,F37,F38) -> 0
B41: Wärmeträger | C41: Hersteller 1:…........ | D41: Hersteller 2:…........ | E41: Hersteller 3:…........ | F41: Hersteller...:…........ | G41: relevante Produktionsstandorte FÜR DAS GEWÄHLTE PRODUKT
B42: Erdgas [kWh]
B43: Fernwärme [kWh] Anteil Erneuerbare lt. Versorger [%]
C44: % | D44: % | E44: % | F44: %
B45: Biomasse / Holz / Pellets [kWh]
B46: Strom (Wärmepumpe)
B47: Öl [kWh]
B48: Sonstiges
B49: nicht relevant | C49: FALSE | D49: FALSE | E49: FALSE | F49: FALSE
B50: Summe | C50: =SUM(C42,C43,C45,C47,C48) -> 0 | D50: =SUM(D42,D43,D45,D47,D48) -> 0 | E50: =SUM(E42,E43,E45,E47,E48) -> 0 | F50: =SUM(F42,F43,F45,F47,F48) -> 0
A54: Frage 20: | B54: Produkt
B55: Produkt | C55: Art der Produktverpackung | D55: Netto-Produktgewicht* [g] | E55: Gewicht Produktverpackung [g] | F55: Verpackungsanteil [%] | G55: Art der Umverpackung
A56: Beispiel | B56: Produkt 1 | C56: z. B. Glas, Becher, Flasche, Dose | D56: 100 | E56: 10 | F56: =((E56)/(E56+D56)) -> 0.090909091 | G56: z. B. Karton, Sleeve, Folie, Banderole | H56: Beispiel
F57: =((E57)/(E57+D57)) -> #DIV/0!
F58: =((E58)/(E58+D58)) -> #DIV/0!
F59: =((E59)/(E59+D59)) -> #DIV/0!
B60: *bei Flüssigkeiten und unbekanntem Gewicht Umrechnung annehmen/abschätzen

Sheet Auswahlmöglichkeiten
A1: Produktart | C1: a) Einzelprodukt | F1: ja | N1: Eigene Produktion -> Tabelle ausfüllen (Blatt:Tabellen): Strom
C2: b) Produktlinie aus gleicher Kategorie (z.B. Getreide) | F2: nein | N2: Produktion durch externen Hersteller (weiter zu Frage 12c)
C3: c) Produktlinie aus verschiedenen Kategorien (z.B. Getreide, Milchprodukte) | F3: teilweise | N3: nicht relevant
F4: nur Verpackung
A5: Lebensmittel | C5: Getreide/Getreideprodukte/Teigwaren incl. Getränke daraus | E5: INHALT | F5: VERARBEITUNG | I5: Beispiel
C6: Obst/Gemüse | G6: 1 | I6: Kartoffeln vom Acker | N6: Eigene Produktion -> Tabelle ausfüllen (Blatt:Tabellen): Wärme
C7: Öle und Fette | G7: 0.75 | I7: Mehl | J7: Öle | K7: Wein | L7: Müsli | N7: Produktion durch externen Hersteller (weiter zu Frage 12c)
C8: Hülsenfrüchte & Nüsse incl. Getränke daraus | G8: 0.5 | I8: Getränk wie Cola | N8: nicht relevant
C9: Sonstige Getränke | G9: 0.5 | I9: Gemüsepizza, Haferdrink, Erbsenprotein-Patty
C10: Süßwaren und Snacks | G10: 0.25 | I10: Chips
C11: Milch und Molkereiprodukte, Eier | G11: 0 | I11: Tiefkühllasagne
C12: Fleisch und Wurstwaren | G12: 0.25 | I12: Schinken
G13: 0.25 | I13: Fleisch
A14: Frage 1 | C14: ja bei Herstellung
C15: Verpackung
C16: Transport
C17: alle genannte Kategorien
A19: Frage 2 | C19: ja, aus: a) konventioneller Landwirtschaft | H19: ja
C20: ja: und b) entspricht den Mindeststandards der EU-Bio Verordnung | H20: nein
C21: nein | H21: nicht möglich (bitte Erläuterung)
A24: Frage 2 a | C24: a) stammt aus konventioneller Landwirtschaft
C25: b) entspricht den Mindeststandards der EU-Bio Verordnung
C26: c) geht über diese Mindeststandards hinaus (inwiefern?)
A28: Frage 2b | C28: a) Unverarbeitet/minimal verarbeitet (z.B. geschnitten)
C29: b) Verarbeitete Zutaten (Öle, Salze, Mehl, Zucker)
C30: c) Verarbeitete Lebensmittel (Konservierungs-, Gärungs-, Kochmethoden)
C31: d) Hochverarbeitete Lebensmittel (Fertigprodukte, Tiefkühlgerichte etc.)
A33: Frage 4 | C33: a) stammen aus konventioneller Landwirtschaft
C34: b) entsprechen den Mindeststandards der EU-Bio Verordnung
C35: c) gehen über diese Mindeststandards hinaus (bitte erläutern inwiefern)
A38: Frage 9 | C38: im eigenen Unternehmen
C39: in der Region (<100km)
C40: in Europa
C41: sonstige
A43: Frage 16 | C43: Mehrwegverpackung
C44: Gewichtsreduktion
C45: Materialien-tausch
C46: Einsatz recyclbarer Materialen
C47: Maßnahmen zur Reduktion der Umverpackung
C48: Andere Maßnahmen
A51: Frage 19 | C51: Information über Mehrwegsystem
C52: richtigen Umgang mit der Verpackung (Mülltrennung,Recycling..)
A56: Frage 25a | C56: in der Region (<100km)
C57: im eigenen Land
C58: in Europa
C59: sonstige

Sheet Ergebnisübersicht

Sheet Rückfragen
