Workbook

Sheet Deckblatt
C2: Ergebnis der Validierung zum
C3: Verfahren | D3: 2026 / 2027
C4: Validierung | D4: Produkte (non-food)
C5: Zeitraum Validierung | D5: xxx 2026
B11: Prüf ID Nummer: | C11: 2026 xx xxxx
B13: Name des Unternehmens | C13: =Produkt!C7 -> 0
B14: Adresse | C14: =Produkt!C8 -> 0
B15: Branche | C15: =Produkt!C9 -> 0
B16: Markenname | C16: =Produkt!C10 -> 0
B18: Ergebnis
C19: Mögliche Punkte | D19: Erreichte Punkte | E19: Anteil
B20: Produktart | C20: =Produkt!C19 -> 25 | D20: =Produkt!D19 -> 0 | E20: =D20/C20 -> 0
B21: =Produkt!B20 -> Vorkette/Inhaltsstoffe | C21: =Produkt!C20 -> 30 | D21: =Produkt!D20 -> 0 | E21: =D21/C21 -> 0
B22: =Produkt!B21 -> Herstellung | C22: =Produkt!C21 -> 20 | D22: =Produkt!D21 -> 0 | E22: =D22/C22 -> 0
B23: =Produkt!B22 -> Verpackung/Entsorgung | C23: =Produkt!C22 -> 15 | D23: =Produkt!D22 -> 0 | E23: =D23/C23 -> 0
B24: =Produkt!B23 -> Distribution | C24: =Produkt!C23 -> 5 | D24: =Produkt!D23 -> 0 | E24: =D24/C24 -> 0
B25: =Produkt!B24 -> Nutzungsphase | C25: =Produkt!C24 -> 5 | D25: =Produkt!D24 -> 0 | E25: =D25/C25 -> 0
B26: Summe | C26: =SUM(C20:C25) -> 100 | D26: =SUM(D20:D25) -> 0 | E26: =D26/C26 -> 0
B28: validiert von:
C33: ALLPLAN GmbH
C34: Schwindgasse 10, 1040 Wien
C35: www.allplan.at
B37: Mit Erreichen / Übertreffen der geforderten Benchmark von 51 % wird - gemäß den Statuten der
B38: geschützten EU-Gewährleistungsmarke - das GREEN BRAND Germany 2026/2027 Gütesiegel
B39: verliehen!
B41: Gültigkeit bis 31.12.2027
B43: Norbert R. L u x
B44: Geschäftsführer

Sheet Basisinformationen
M3: Ausfüllhilfe / Legende
M4: Markierung / Feld | N4: Art | O4: Was ist zu tun?
M5: Blaues Feld | N5: Freitextfeld | O5: bitte geforderte Daten/Erklärungen einfügen
M6: Oranges Feld | N6: Auswahlfeld | O6: Bitte eine Antwort aus dem Dropdown-Menü auswählen.
N7: □ Kästchen | O7: Bitte ein „X“ statt dem Kästchen neben der zutreffenden Antwort eintragen. Mehrfachauswahl ist möglich, wenn mehrere Antworten zutreffen.
M8: Unterstrichener Text | N8: Verweis auf Tabellenblatt | O8: Bitte die dazugehörige Tabelle im Blatt „Tabellen“ ausfüllen.
M9: Spalte "Erforderlicher Nachweis" | N9: Erforderlicher Nachweis | O9: Bitte passende Dokumente oder Angaben beifügen, z. B. Rechnungen, Zertifikate oder Auswertungen und die konkrete Dokumentbezeichnung/den link in der Spalte "erforderlicher Nachweis" eintragen.
M11: Bitte vergewissern Sie sich bei Einreichung, - dass alle Fragen umfassend beantwortet wurden - alle beizufügenden Dokumente auch mitgesandt werden (ggf. via wetransfer) - und bei den entsprechenden Fragen die konkrete Dokumentbezeichnung genannt wird. Hinweis: ein Verweis z.B. „siehe unseren Nachhaltigkeitsbericht“ genügt nicht, sondern bitte immer einen Hinweis/link zur entsprechenden Passage anführen. Damit vermeiden Sie unnötige Nachfragen bei der Auswertung, die Zeit kosten und auch höhere Gebühren zur Folge haben können! – Danke!

Sheet Produkt
B3: Produktfragebogen (non-food)
B7: Name des Unternehmens
B8: Adresse
B9: Branche
B10: Name des Produktes
B11: Beschreibung des gewählten Produktes
B12: Kontaktperson/ Funktion
B13: e-mail
B14: Telefon
B16: Ergebnis
C18: Mögliche Punkte | D18: Erreichte Punkte | E18: Anteil | H18: Jahr xxxx | I18: Jahr xxxx | J18: Jahr xxxx | K18: Jahr xxxx
B19: =Validierung!A3 -> Produktart | C19: =Auswertung!G3 -> 25 | D19: =Auswertung!I6+Auswertung!I8 -> 0 | E19: =D19/C19 -> 0 | H19: =D19 -> 0
B20: =Validierung!A10 -> Vorkette/Inhaltsstoffe | C20: =Auswertung!G10 -> 30 | D20: =SUM(Auswertung!I11,Auswertung!I15,Auswertung!I21) -> 0 | E20: =D20/C20 -> 0 | H20: =D20 -> 0
B21: =Validierung!A23 -> Herstellung | C21: =Auswertung!G23 -> 20 | D21: =SUM(Auswertung!I24,Auswertung!I28,Auswertung!I32,Auswertung!I34,Auswertung!I37,Auswertung!I39,Auswertung!I41) -> 0 | E21: =D21/C21 -> 0 | H21: =D21 -> 0
B22: =Validierung!A44 -> Verpackung/Entsorgung | C22: =Auswertung!G44 -> 15 | D22: =SUM(Auswertung!I45,Auswertung!I48,Auswertung!I50,Auswertung!I52,Auswertung!I54) -> 0 | E22: =D22/C22 -> 0 | H22: =D22 -> 0
B23: =Validierung!A56 -> Distribution | C23: =Auswertung!G56 -> 5 | D23: =SUM(Auswertung!I57:I61) -> 0 | E23: =D23/C23 -> 0 | H23: =D23 -> 0
B24: =Validierung!A63 -> Nutzungsphase | C24: =Auswertung!G63 -> 5 | D24: =SUM(Auswertung!I64:I72) -> 0 | E24: =D24/C24 -> 0 | H24: =D24 -> 0
B25: Summe | C25: =SUM(C19:C24) -> 100 | D25: =SUM(D19:D24) -> 0 | E25: =D25/C25 -> 0 | H25: =D25 -> 0
B27: Bearbeiterin | C27: xxxx
C35: ALLPLAN GmbH
C36: Schwindgasse 10, 1040 Wien
C37: M: +43 676 842 225 220
C38: Firmenbuchnummer: 94000k
C39: Handelsgericht Wien
C40: www.allplan.at

Sheet Validierung
A1: Frage Nr. | B1: Fragebogen Produkt | C1: Auswahl-Antwort (bitte auswählen) | D1: Erklärungen | E1: Erforderlicher Nachweis Bitte führen Sie die genaue Bezeichnung der beigefügten Nachweise in der jeweiligen Zelle an. (Hinweise überschreiben) | F1: Max. Punkteanzahl Kategorien | G1: max. Punkte je Frage
A3: =Deckblatt!B20 -> Produktart | F3: 25
A4: Frage 1 | B4: Um welche Art/Produktgruppe handelt es sich?
A6: Frage 2 | B6: Inwiefern ist das von ihnen angebotene Produkt ökologisch nachhaltiger als vergleichbare Produkte? | C6: falls zutreffend, bitte „☐“ durch „X“ ersetzen. Mehrfachauswahl möglich. ☐ Ja, bei der Herstellung (incl. Kreislauf-Ansätze) ☐ Ja, bei der Verpackung ☐ Ja, beim Transport ☐ Ja, bei der Nutzung | G6: 12.5
A8: Frage 3 | B8: Wodurch wird die ökologische Nachhaltigkeit der Produkte bestätigt? Nachweis! | C8: falls zutreffend, bitte „☐“ durch „X“ ersetzen. Mehrfachauswahl möglich. ☐ Anerkanntes, extern geprüftes, umfassendes Nachhaltigkeits-Zertifikat für das Produkt (z.B. EU Ecolabel) ☐ Anerkanntes, extern geprüftes, umfassendes Zertifikat für die Produkt-Verpackung ☐ Anerkanntes, extern geprüftes umfassendes Zertifikat für das Produkt mit thematischer Beschränkung z.B. Fairtrade ☐ Anerkanntes, extern geprüftes umfassendes Zertifikat für die Produkt-Verpackung mit thematischer Beschränkung ☐ Anerkanntes, extern geprüftes Zertifikat für Teile des Produktes oder der Verpackung ☐ Staatlich anerkannte Zertifizierungen des Herstellers ohne direkten Produktnachweis, z.B. ISO 14001 ☐ Sonstige Nachweise oder Einschätzungen | E8: Zertifikat | G8: 12.5
A9: Frage 3a | B9: Kommunizieren Sie transparent die ökologischen Vorteile Ihres Produktes? Nachweis! | E9: Nachweis/link
A10: Vorkette/Inhaltsstoffe | F10: 30
A11: Frage 4 | B11: nur für Investitionsgüter, Gebrauchsgüter, Werkstoffe: Um welche Güter handelt es sich? (Weitere Informationen in Tabelle eintragen) Nachweis! | D11: bitte relevante Tabelle ausfüllen: 1. Investitionsgüter & Gebrauchsgüter (ausser Textilien) oder 2. Textilien | E11: Nachweise lt. Tabelle | G11: 15
A13: Frage 5 | B13: nur für Verbrauchsgüter: Um welche Güter handelt es sich? (Weitere Informationen in Tabelle eintragen) Nachweis! | D13: Tabelle Verbrauchsgüter | E13: Nachweise lt. Tabelle
A15: Frage 6 | B15: Nennen Sie Namen und Standorte (Logistikzentren) ihrer Hauptlieferanten. | G15: 7.5
A16: Frage 6a | B16: Sind die Rohstoffe, welche Sie für Ihr Produkt einsetzen, zum überwiegenden Teil (> 75 % der eingesetzten Rohstoffe) regional (Radius 100 km) verfügbar?
B17: Bitte um kurze Erklärung der (geografischen) Herkunft.
A18: Frage 6b | B18: Importieren Sie benötigte Rohstoffe, welche auch regional (Radius 100 km) verfügbar wären?
B19: Wenn ja, wodurch wird der Import gerechtfertigt?
A21: Frage 7 | B21: Welche Maßnahmen werden gesetzt um die den Transport der Rohstoffe nachhaltiger zu gestalten? | C21: falls zutreffend, bitte „☐“ durch „X“ ersetzen. Mehrfachauswahl möglich. ☐ Logistikmaßnahmen (weniger Transport-km) ☐ Alternative Treibstoffe (z.B. E-LKW) ☐ Umweltschonende Transportmittel (z.B. Bahn) ☐ Sonstige | G21: 7.5
A23: Herstellung | F23: 20
A24: Frage 8 | B24: Stellen Sie das Produkt im eigenen Unternehmen her? (Verarbeitung im eigenen Unternehmen) | G24: 3
A25: Frage 8a | B25: Wo wird der größte Teil der Fertigung des Produktes (> als 75% der Produktionsschritte) vorgenommen?
B26: Beschreiben Sie kurz die wichtigsten Produktionsschritte & wo diese vorgenommen werden
A28: Frage 9 | B28: Welche Energieträger setzt ihr Unternehmen ein? (Strom) | D28: für Strom - füllen Sie Tabellenblatt Strom pro Standort aus und legen sie ggf. Ökostromzertifikate bei | G28: 5
A29: Frage 9a | B29: Welche Energieträger setzt ihr Unternehmen ein? (Wärme) | D29: für Wärme - füllen Sie Tabellenblatt Wärme pro Standort aus
A30: Frage 9b | B30: Bei Produktion durch externen Hersteller: führen Sie den Strom- und Wärmemix des Herstellers an | D30: Tabelle ausfüllen (Blatt:Tabellen): externer Hersteller
A32: Frage 10 | B32: Werden in der Produktion Maßnahmen - welche über den gesetzlich verpflichteten Standard hinaus gehen - unternommen, um Ihren Energieverbrauch (Strom- und Wärmeenergie) möglichst effizient zu gestalten? | G32: 2
B33: Bitte Maßnahmen & erzielte Einsparung beschreiben.
A34: Frage 11 | B34: Werden in der Produktion Maßnahmen - welche über den gesetzlich verpflichteten Standard hinaus gehen - unternommen, um mit Wasser und Abwasser möglichst effizient und umweltschonend umzugehen? | G34: 2
B35: Bitte Maßnahmen & erzielte Einsparung beschreiben.
A37: Frage 12 | B37: Werden in der Produktion Maßnahmen - welche über den gesetzlich verpflichteten Standard hinaus gehen - unternommen, um mit sonstigen Ressourcen (Materialien, Hilfsstoffe, Zuschlagsstoffe etc.) möglichst effizient und umweltschonend umzugehen? Bitte Maßnahmen beschreiben | G37: 2
B38: Bitte Maßnahmen & erzielte Einsparung beschreiben.
A39: Frage 13 | B39: Werden in der Produktion Maßnahmen - welche über den gesetzlich verpflichteten Standard hinaus gehen - unternommen, um Abfall (Menge des Abfalls, Art der Abfälle) zu vermeiden oder zu reduzieren? | G39: 2
B40: Bitte Maßnahmen & erzielte Einsparung beschreiben.
A41: Frage 14 | B41: Wurde in den letzten 3 Jahren eine Erhebung zum CO2-Fußabdruck (Produkt) durchgeführt? Falls ja, bitte um Übermittlung. Nachweis! | E41: Fußabdruck | G41: 4
A42: Frage 14a | B42: Wie hat sich der Wert in den letzten Jahren entwickelt?
A43: Frage 14b | B43: Veröffentlichen Sie die Ergebnisse (wo?)?
A44: Verpackung/Entsorgung | F44: 15
A45: Frage 15 | B45: Wurden bereits Maßnahmen unternommen, um die Umwelteinflüsse durch die Verpackung zu reduzieren | C45: falls zutreffend, bitte „☐“ durch „X“ ersetzen. Mehrfachauswahl möglich. ☐ Mehrwegverpackung ☐ Gewichtsreduktion ☐ Materialien-tausch ☐ Einsatz recyclbarer Materialen ☐ Maßnahmen zur Reduktion der Umverpackung ☐ Andere Maßnahmen | G45: 7.5
B46: bitte um Erläuterung
A48: Frage 16 | B48: Beziehen Sie den überwiegenden Teil der Verpackungsmaterialien (> 90 % des Gesamtgewichts der Verpackung) regional (Radius <100km)? | G48: 1.5
A50: Frage 17 | B50: Füllen Sie die Tabelle zu Kennzahlen der Produktverpackung aus! | D50: Tabelle ausfüllen (Blatt:Tabellen): Produkt | G50: 1.5
A52: Frage 18 | B52: Ist die Verpackung für Endkunden leicht in einzelne Bestandteile zerlegbar, um die fachgerechte Verwertung der Materialien zu ermöglichen? | G52: 3
B53: in welche Bestandteile (Material) lässt sich die Verpackung zerlegen?
A54: Frage 19 | B54: Informieren Sie den Verbraucher über richtigen Umgang mit der Verpackung? Wie/wo? (am Produkt selbst, homepage..) | C54: falls zutreffend, bitte „☐“ durch „X“ ersetzen. Mehrfachauswahl möglich. ☐ Information über Mehrwegsystem ☐ Richtigen Umgang mit der Verpackung (Mülltrennung,Recycling..) ☐ Andere Maßnahmen | G54: 1.5
A56: Distribution | F56: 5
A57: Frage 20 | B57: Wie viel Prozent der jährlichen Produktionsmengen werden über-regional (Radius >100km) vertrieben? X% | G57: 1.25
A59: Frage 20a | B59: Wohin wird der größte Teil des Produktes/der Produkte (> als 75% der Produkte) vertrieben? | G59: 1.25
A61: Frage 21 | B61: Welche Maßnahmen werden gesetzt um die Distribution effizienter zu transportieren? | C61: falls zutreffend, bitte „☐“ durch „X“ ersetzen. Mehrfachauswahl möglich. ☐ Logistikmaßnahmen (weniger Transport-km) ☐ Alternative Treibstoffe (z.B. E-LKW) ☐ Umweltschonende Transportmittel (z.B. Bahn) ☐ Sonstige | G61: 2.5
A63: Nutzungsphase | F63: 5
A64: Frage 22 | B64: Informieren Sie den Konsumenten über eine umweltfreundliche Verwendung/Nutzung des Produkts ? | C64: falls zutreffend, bitte „☐“ durch „X“ ersetzen. Mehrfachauswahl möglich. ☐ Ja, in einer Bedienungsanleitung ☐ Ja, Aufschrift am Produkt ☐ Ja, auf unserer homepage ☐ Sonstige (bitte erläutern) ☐ Nein | G64: 1
A66: Frage 23 | B66: Wurden Maßnahmen in der Entwicklung des Produktes getätigt, um die Lebensdauer und Reparaturfähigkeit Ihres Produktes zu erhöhen? | G66: 1
B67: Vergleichen Sie die Lebensdauer und Reparturfähigkeiten des Produktes mit vergleichbaren Produkten.
A68: Frage 24 | B68: Werden Reparatur- und Wartungsdienstleistungen hausintern angeboten?(für Investitionsgüter und Gebrauchsgüter relevant) | G68: 1
A70: Frage 25 | B70: Gibt es eine Garantieleistung welche über das gesetzliche Maß hinaus geht? | G70: 1
A72: Frage 26 | B72: Werden Ihre Produkte auch vermietet anstatt verkauft? (für Investitionsgüter und Gebrauchsgüter relevant) | G72: 1
F74: Summe | G74: =SUM(G2:G73) -> 100

Sheet Auswertung
A1: Reval. Verpflichtendes Update | B1: Frage Nr. | C1: Fragebogen Produkt | D1: =Validierung!C1 -> Auswahl-Antwort (bitte auswählen) | E1: =Validierung!D1 -> Erklärungen | F1: =Validierung!E1 -> Erforderlicher Nachweis Bitte führen Sie die genaue Bezeichnung der beigefügten Nachweise in der jeweiligen Zelle an. (Hinweise überschreiben) | G1: Max. Punkteanzahl Kategorien | H1: max. Punkte je Frage | I1: Erreichte Punkte | J1: Kommentar
B3: =Deckblatt!B20 -> Produktart | G3: 25
A4: bei Bedarf/Änderung | B4: Frage 1 | C4: Um welche Art/Produktgruppe handelt es sich? | D4: =Validierung!C4 -> 0 | E4: =Validierung!D4 -> 0 | F4: =Validierung!E4 -> 0
A6: bei Bedarf/Änderung | B6: Frage 2 | C6: Inwiefern ist das von ihnen angebotene Produkt ökologisch nachhaltiger als vergleichbare Produkte? | D6: =Validierung!C6 -> falls zutreffend, bitte „☐“ durch „X“ ersetzen. Mehrfachauswahl möglich. ☐ Ja, bei der Herstellung (incl. Kreislauf-Ansätze) ☐ Ja, bei der Verpackung ☐ Ja, beim Transport ☐ Ja, bei der Nutzung | E6: =Validierung!D6 -> 0 | F6: =Validierung!E6 -> 0 | G6: 0.5 | H6: =G6*G3 -> 12.5 | J6: 25% pro ausgewählter Kategorie
A8: ja (aktuelles Jahr) | B8: Frage 3 | C8: Wodurch wird die ökologische Nachhaltigkeit der Produkte bestätigt? Nachweis! | D8: =Validierung!C8 -> falls zutreffend, bitte „☐“ durch „X“ ersetzen. Mehrfachauswahl möglich. ☐ Anerkanntes, extern geprüftes, umfassendes Nachhaltigkeits-Zertifikat für das Produkt (z.B. EU Ecolabel) ☐ Anerkanntes, extern geprüftes, umfassendes Zertifikat für die Produkt-Verpackung ☐ Anerkanntes, extern geprüftes umfassendes Zertifikat für das Produkt mit thematischer Beschränkung z.B. Fairtrade ☐ Anerkanntes, extern geprüftes umfassendes Zertifikat für die Produkt-Verpackung mit thematischer Beschränkung ☐ Anerkanntes, extern geprüftes Zertifikat für Teile des Produktes oder der Verpackung ☐ Staatlich anerkannte Zertifizierungen des Herstellers ohne direkten Produktnachweis, z.B. ISO 14001 ☐ Sonstige Nachweise oder Einschätzungen | E8: =Validierung!D8 -> 0 | F8: =Validierung!E8 -> Zertifikat | G8: 0.5 | H8: =G8*G3 -> 12.5 | J8: Bewertung lt. Vorgaben Bewertung Zertifikate
B9: Frage 3a | C9: Kommunizieren Sie transparent die ökologischen Vorteile Ihres Produktes? Nachweis! | D9: =Validierung!C9 -> 0 | E9: =Validierung!D9 -> 0 | F9: =Validierung!E9 -> Nachweis/link
B10: Vorkette/Inhaltsstoffe | G10: 30
A11: ja | B11: Frage 4 | C11: nur für Investitionsgüter, Gebrauchsgüter, Werkstoffe: Um welche Güter handelt es sich? (Weitere Informationen in Tabelle eintragen) Nachweis! | D11: =Validierung!C11 -> 0 | E11: =Validierung!D11 -> bitte relevante Tabelle ausfüllen: 1. Investitionsgüter & Gebrauchsgüter (ausser Textilien) oder 2. Textilien | F11: =Validierung!E11 -> Nachweise lt. Tabelle | G11: 0.5 | H11: =G10*G11 -> 15
A13: ja | B13: Frage 5 | C13: nur für Verbrauchsgüter: Um welche Güter handelt es sich? (Weitere Informationen in Tabelle eintragen) Nachweis! | D13: =Validierung!C13 -> 0 | E13: =Validierung!D13 -> Tabelle Verbrauchsgüter | F13: =Validierung!E13 -> Nachweise lt. Tabelle
A15: bei Bedarf/Änderung | B15: Frage 6 | C15: Nennen Sie Namen und Standorte (Logistikzentren) ihrer Hauptlieferanten. | D15: =Validierung!C15 -> 0 | E15: =Validierung!D15 -> 0 | F15: =Validierung!E15 -> 0 | H15: =G16*G10 -> 7.5
A16: bei Bedarf/Änderung | B16: Frage 6a | C16: Sind die Rohstoffe, welche Sie für Ihr Produkt einsetzen, zum überwiegenden Teil (> 75 % der eingesetzten Rohstoffe) regional (Radius 100 km) verfügbar? | D16: =Validierung!C16 -> 0 | E16: =Validierung!D16 -> 0 | F16: =Validierung!E16 -> 0 | G16: 0.25
A17: bei Bedarf/Änderung | C17: Bitte um kurze Erklärung der Herkunft. | D17: =Validierung!C17 -> 0 | E17: =Validierung!D17 -> 0 | F17: =Validierung!E17 -> 0 | J17: 100% alles regional, 75% teilweise regional/im Land bzw., 50% bei nicht verfügbar regional und import aus Europa oder Afrika, sonst 0%
A18: bei Bedarf/Änderung | B18: Frage 6b | C18: Importieren Sie benötigte Rohstoffe, welche auch regional (Radius 100 km) verfügbar wären? | D18: =Validierung!C18 -> 0 | E18: =Validierung!D18 -> 0 | F18: =Validierung!E18 -> 0
A19: bei Bedarf/Änderung | C19: Wenn ja, wodurch wird der Import gerechtfertigt? | D19: =Validierung!C19 -> 0 | E19: =Validierung!D19 -> 0 | F19: =Validierung!E19 -> 0
A21: ja | B21: Frage 7 | C21: Welche Maßnahmen werden gesetzt um die den Transport der Rohstoffe nachhaltiger zu gestalten? | D21: =Validierung!C21 -> falls zutreffend, bitte „☐“ durch „X“ ersetzen. Mehrfachauswahl möglich. ☐ Logistikmaßnahmen (weniger Transport-km) ☐ Alternative Treibstoffe (z.B. E-LKW) ☐ Umweltschonende Transportmittel (z.B. Bahn) ☐ Sonstige | E21: =Validierung!D21 -> 0 | F21: =Validierung!E21 -> 0 | G21: 0.25 | H21: =G10*G21 -> 7.5 | J21: 30% pro Kategorie, 100% wenn alle
B23: Herstellung | G23: 20
A24: bei Bedarf/Änderung | B24: Frage 8 | C24: Stellen Sie das Produkt im eigenen Unternehmen her? (Verarbeitung im eigenen Unternehmen) | D24: =Validierung!C24 -> 0 | E24: =Validierung!D24 -> 0 | F24: =Validierung!E24 -> 0 | G24: 0.15 | H24: =$G$23*G24 -> 3
B25: Frage 8a | C25: Wo wird der größte Teil der Fertigung des Produktes (> als 75% der Produktionsschritte) vorgenommen? | D25: =Validierung!C25 -> 0 | E25: =Validierung!D25 -> 0 | F25: =Validierung!E25 -> 0 | J25: ja und regional => 80%; nein und Europa =>50%; nein und sonstiges=>0%
C26: Beschreiben Sie kurz die wichtigsten Produktionsschritte & wo diese vorgenommen werden | D26: =Validierung!C26 -> 0 | E26: =Validierung!D26 -> 0 | F26: =Validierung!E26 -> 0
A28: bei Bedarf/Änderung | B28: Frage 9 | C28: Welche Energieträger setzen Sie für die Herstellung Ihres Produktes ein? (Strom) | D28: =Validierung!C28 -> 0 | E28: =Validierung!D28 -> für Strom - füllen Sie Tabellenblatt Strom pro Standort aus und legen sie ggf. Ökostromzertifikate bei | F28: =Validierung!E28 -> 0 | G28: 0.25 | H28: =$G$23*G28 -> 5 | J28: Punkte analog zu % Anteil EE Strom; wenn eigene Produktion: 100% vom Mittelwert der Antworten Frage 9; sonst 50% vom Mittelwert Frage 9 und Mittelwert Frage 9b (max. 2.5)
B29: Frage 9a | C29: Welche Energieträger setzen Sie für die Herstellung Ihres Produktes ein? (Wärme) | D29: =Validierung!C29 -> 0 | E29: =Validierung!D29 -> für Wärme - füllen Sie Tabellenblatt Wärme pro Standort aus | F29: =Validierung!E29 -> 0 | J29: Punkte analog zu % Anteil EE Wärme; wenn eigene Produktion: 100% vom Mittelwert der Antworten Frage 9; sonst 50% vom Mittelwert Frage 9 und Mittelwert Frage 9b (max. 2.5)
B30: Frage 9b | C30: Bei Produktion durch externen Hersteller: führen Sie den Strom- und Wärmemix des Herstellers an | D30: =Validierung!C30 -> 0 | E30: =Validierung!D30 -> Tabelle ausfüllen (Blatt:Tabellen): externer Hersteller | F30: =Validierung!E30 -> 0
A32: ja (aktuelles Jahr) | B32: Frage 10 | C32: Werden in der Produktion Maßnahmen - welche über den gesetzlich verpflichteten Standard hinaus gehen - unternommen, um Ihren Energieverbrauch (Strom- und Wärmeenergie) möglichst effizient zu gestalten? | D32: =Validierung!C32 -> 0 | E32: =Validierung!D32 -> 0 | F32: =Validierung!E32 -> 0 | G32: 0.1 | H32: =G32*$G$23 -> 2 | J32: Ja und Maßnahmen beschrieben => 50%; Ja und Maßnahmen beschrieben und Einsparungen => 100%; nein => 0%; ja und keine Info => 0%; nicht relevant und plausible Erklärung => 100%; sonst 0%
C33: Bitte Maßnahmen & erzielte Einsparung beschreiben. | D33: =Validierung!C33 -> 0 | E33: =Validierung!D33 -> 0 | F33: =Validierung!E33 -> 0
A34: ja (aktuelles Jahr) | B34: Frage 11 | C34: Werden in der Produktion Maßnahmen - welche über den gesetzlich verpflichteten Standard hinaus gehen - unternommen, um mit Wasser und Abwasser möglichst effizient und umweltschonend umzugehen? | D34: =Validierung!C34 -> 0 | E34: =Validierung!D34 -> 0 | F34: =Validierung!E34 -> 0 | G34: 0.1 | H34: =G34*$G$23 -> 2 | J34: Ja und Maßnahmen beschrieben => 50%; Ja und Maßnahmen beschrieben und Einsparungen => 100%; nein => 0%; ja und keine Info => 0%; nicht relevant und plausible Erklärung => 100%; sonst 0%
C35: Bitte Maßnahmen & erzielte Einsparung beschreiben. | D35: =Validierung!C35 -> 0 | E35: =Validierung!D35 -> 0 | F35: =Validierung!E35 -> 0
A37: ja (aktuelles Jahr) | B37: Frage 12 | C37: Werden in der Produktion Maßnahmen - welche über den gesetzlich verpflichteten Standard hinaus gehen - unternommen, um mit sonstigen Ressourcen (Materialien, Hilfsstoffe, Zuschlagsstoffe etc.) möglichst effizient und umweltschonend umzugehen? Bitte Maßnahmen beschreiben | D37: =Validierung!C37 -> 0 | E37: =Validierung!D37 -> 0 | F37: =Validierung!E37 -> 0 | G37: 0.1 | H37: =G37*$G$23 -> 2 | J37: Ja und Maßnahmen beschrieben => 50%; Ja und Maßnahmen beschrieben und Einsparungen => 100%; nein => 0%; ja und keine Info => 0%; nicht relevant und plausible Erklärung => 100%; sonst 0%
C38: Bitte Maßnahmen & erzielte Einsparung beschreiben. | D38: =Validierung!C38 -> 0 | E38: =Validierung!D38 -> 0 | F38: =Validierung!E38 -> 0
A39: ja (aktuelles Jahr) | B39: Frage 13 | C39: Werden in der Produktion Maßnahmen - welche über den gesetzlich verpflichteten Standard hinaus gehen - unternommen, um Abfall (Menge des Abfalls, Art der Abfälle) zu vermeiden oder zu reduzieren? | D39: =Validierung!C39 -> 0 | E39: =Validierung!D39 -> 0 | F39: =Validierung!E39 -> 0 | G39: 0.1 | H39: =G39*$G$23 -> 2 | J39: Ja und Maßnahmen beschrieben => 50%; Ja und Maßnahmen beschrieben und Einsparungen => 100%; nein => 0%; ja und keine Info => 0%; nicht relevant und plausible Erklärung => 100%; sonst 0%
C40: Bitte Maßnahmen & erzielte Einsparung beschreiben. | D40: =Validierung!C40 -> 0 | E40: =Validierung!D40 -> 0 | F40: =Validierung!E40 -> 0
A41: ja (aktuelles Jahr) | B41: Frage 14 | C41: Wurde in den letzten 3 Jahren eine Erhebung zum CO2-Fußabdruck (Produkt) durchgeführt? Falls ja, bitte um Übermittlung. Nachweis! | D41: =Validierung!C41 -> 0 | E41: =Validierung!D41 -> 0 | F41: =Validierung!E41 -> Fußabdruck | G41: 0.2 | H41: =G41*$G$23 -> 4 | J41: Punktevergabe: 50% Punkte für JA und 30% Zusatzpunkte für Reduktion und 20% Veröffentlichung
B42: Frage 14a | C42: Wie hat sich der Wert in den letzten Jahren entwickelt? | D42: =Validierung!C42 -> 0 | E42: =Validierung!D42 -> 0 | F42: =Validierung!E42 -> 0
B43: Frage 14b | C43: Veröffentlichen Sie die Ergebnisse (wo?)? | D43: =Validierung!C43 -> 0 | E43: =Validierung!D43 -> 0 | F43: =Validierung!E43 -> 0
B44: Verpackung/Entsorgung | G44: 15
A45: ja (aktuelles Jahr) | B45: Frage 15 | C45: Wurden bereits Maßnahmen unternommen, um die Umwelteinflüsse durch die Verpackung zu reduzieren | D45: =Validierung!C45 -> falls zutreffend, bitte „☐“ durch „X“ ersetzen. Mehrfachauswahl möglich. ☐ Mehrwegverpackung ☐ Gewichtsreduktion ☐ Materialien-tausch ☐ Einsatz recyclbarer Materialen ☐ Maßnahmen zur Reduktion der Umverpackung ☐ Andere Maßnahmen | E45: =Validierung!D45 -> 0 | F45: =Validierung!E45 -> 0 | G45: 0.5 | H45: =$G$44*G45 -> 7.5 | J45: 20% pro ausgewählter Kategorie (nur bei plausibler Beschreibung)
C46: bitte um Erläuterung | D46: =Validierung!C46 -> 0 | E46: =Validierung!D46 -> 0 | F46: =Validierung!E46 -> 0
A48: bei Bedarf/Änderung | B48: Frage 16 | C48: Beziehen Sie den überwiegenden Teil der Verpackungsmaterialien (> 90 % des Gesamtgewichts der Verpackung) regional (Radius <100km)? | D48: =Validierung!C48 -> 0 | E48: =Validierung!D48 -> 0 | F48: =Validierung!E48 -> 0 | G48: 0.1 | H48: =$G$44*G48 -> 1.5 | J48: Ja=>100%; nein=>0%; nicht möglich und Begründung =>50%
A50: bei Bedarf/Änderung | B50: Frage 17 | C50: Füllen Sie die Tabelle zu Kennzahlen der Produktverpackung aus! | D50: =Validierung!C50 -> 0 | E50: =Validierung!D50 -> Tabelle ausfüllen (Blatt:Tabellen): Produkt | F50: =Validierung!E50 -> 0 | G50: 0.1 | H50: =$G$44*G50 -> 1.5 | J50: Wenn 0-5%>> 100% 6-10%>> 50% 11-15%>>30% sonst>>0%; bei mehreren Angaben: Mittelwert Verpackungsanteil heranziehen
A52: bei Bedarf/Änderung | B52: Frage 18 | C52: Ist die Verpackung für Endkunden leicht in einzelne Bestandteile zerlegbar, um die fachgerechte Verwertung der Materialien zu ermöglichen? | D52: =Validierung!C52 -> 0 | E52: =Validierung!D52 -> 0 | F52: =Validierung!E52 -> 0 | G52: 0.2 | H52: =$G$44*G52 -> 3 | J52: ja und Erklärung 100%, sonst 0
C53: in welche Bestandteile (Material) lässt sich die Verpackung zerlegen? | D53: =Validierung!C53 -> 0 | E53: =Validierung!D53 -> 0 | F53: =Validierung!E53 -> 0
A54: bei Bedarf/Änderung | B54: Frage 19 | C54: Informieren Sie den Verbraucher über richtigen Umgang mit der Verpackung? Wie/wo? (am Produkt selbst, homepage..) | D54: =Validierung!C54 -> falls zutreffend, bitte „☐“ durch „X“ ersetzen. Mehrfachauswahl möglich. ☐ Information über Mehrwegsystem ☐ Richtigen Umgang mit der Verpackung (Mülltrennung,Recycling..) ☐ Andere Maßnahmen | E54: =Validierung!D54 -> 0 | F54: =Validierung!E54 -> 0 | G54: 0.1 | H54: =$G$44*G54 -> 1.5 | J54: ja und Erklärung 100%, sonst 0
B56: Distribution | G56: 5
A57: bei Bedarf/Änderung | B57: Frage 20 | C57: Wie viel Prozent der jährlichen Produktionsmengen werden über-regional (Radius >100km) vertrieben? X% | D57: =Validierung!C57 -> 0 | E57: =Validierung!D57 -> 0 | F57: =Validierung!E57 -> 0 | G57: 0.25 | H57: =$G$56*G57 -> 1.25 | J57: % Punkte: (100%-angegebener Wert %)
A59: bei Bedarf/Änderung | B59: Frage 20a | C59: Wohin wird der größte Teil des Produktes/der Produkte (> als 75% der Produkte) vertrieben? | D59: =Validierung!C59 -> 0 | E59: =Validierung!D59 -> 0 | F59: =Validierung!E59 -> 0 | G59: 0.25 | H59: =$G$56*G59 -> 1.25 | J59: Region: 100% Land: 75% Europa: 50% sonst: 0%
A61: ja (aktuelles Jahr) | B61: Frage 21 | C61: Welche Maßnahmen werden gesetzt um die Distribution effizienter zu transportieren? | D61: =Validierung!C61 -> falls zutreffend, bitte „☐“ durch „X“ ersetzen. Mehrfachauswahl möglich. ☐ Logistikmaßnahmen (weniger Transport-km) ☐ Alternative Treibstoffe (z.B. E-LKW) ☐ Umweltschonende Transportmittel (z.B. Bahn) ☐ Sonstige | E61: =Validierung!D61 -> 0 | F61: =Validierung!E61 -> 0 | G61: 0.5 | H61: =$G$56*G61 -> 2.5 | J61: 30% pro Kategorie, 100% wenn alle
B63: Nutzungsphase | D63: =Validierung!C63 -> 0 | E63: =Validierung!D63 -> 0 | F63: =Validierung!E63 -> 0 | G63: 5
A64: bei Bedarf/Änderung | B64: Frage 22 | C64: Informieren Sie den Konsumenten über eine umweltfreundliche Verwendung/Nutzung des Produkts ? | D64: =Validierung!C64 -> falls zutreffend, bitte „☐“ durch „X“ ersetzen. Mehrfachauswahl möglich. ☐ Ja, in einer Bedienungsanleitung ☐ Ja, Aufschrift am Produkt ☐ Ja, auf unserer homepage ☐ Sonstige (bitte erläutern) ☐ Nein | E64: =Validierung!D64 -> 0 | F64: =Validierung!E64 -> 0 | G64: 0.2 | H64: =$G$63*G64 -> 1 | J64: am Produkt 100%, sonst mind. eines 50%, mehrere 75%, sonst 0
A66: bei Bedarf/Änderung | B66: Frage 23 | C66: Wurden Maßnahmen in der Entwicklung des Produktes getätigt, um die Lebensdauer und Reparaturfähigkeit Ihres Produktes zu erhöhen? | D66: =Validierung!C66 -> 0 | E66: =Validierung!D66 -> 0 | F66: =Validierung!E66 -> 0 | G66: 0.2 | H66: =$G$63*G66 -> 1 | J66: ja 75%, ja und Umfang der Aktivitäten 100%, Verbrauchsgut: 50%, nein: 0
A67: bei Bedarf/Änderung | C67: Vergleichen Sie die Lebensdauer und Reparturfähigkeiten des Produktes mit vergleichbaren Produkten. | D67: =Validierung!C67 -> 0 | E67: =Validierung!D67 -> 0 | F67: =Validierung!E67 -> 0
A68: bei Bedarf/Änderung | B68: Frage 24 | C68: Werden Reparatur- und Wartungsdienstleistungen hausintern angeboten?(für Investitionsgüter und Gebrauchsgüter relevant) | D68: =Validierung!C68 -> 0 | E68: =Validierung!D68 -> 0 | F68: =Validierung!E68 -> 0 | G68: 0.2 | H68: =$G$63*G68 -> 1 | J68: ja 100%, nein 0; Verbrauchsgut: 50%
A70: ja (aktuelles Jahr) | B70: Frage 25 | C70: Gibt es eine Garantieleistung welche über das gesetzliche Maß hinaus geht? | D70: =Validierung!C70 -> 0 | E70: =Validierung!D70 -> 0 | G70: 0.2 | H70: =$G$63*G70 -> 1 | J70: ja 100%, nein 0; Verbrauchsgut: 50%
A72: bei Bedarf/Änderung | B72: Frage 26 | C72: Werden Ihre Produkte auch vermietet anstatt verkauft? (für Investitionsgüter und Gebrauchsgüter relevant) | D72: =Validierung!C72 -> 0 | E72: =Validierung!D72 -> 0 | G72: 0.2 | H72: =$G$63*G72 -> 1 | J72: ja 100%, nein 0; Verbrauchsgut: 50%
G74: Summe | H74: =SUM(H2:H73) -> 100 | I74: =SUM(I4:I73) -> 0

Sheet Auswahlmöglichkeiten
A3: Frage 1 | C3: ja bei Herstellung | I3: ja | K3: anerkannte Umweltzeichen oder Gütesiegel
C4: Verpackung | I4: nein | K4: staatlich anerkannte Zertifizierungen (incl. ISO 14001 de Herstellers)
C5: Transport | I5: teilweise | K5: sonstige nachvollziehbare Nachweise oder Einschätzungen
C6: bei der Nutzung | I6: nur Verpackung
C7: alle genannten Kategorien
C10: Putz- Reinigungs-, Waschmittel | E10: Maschinen/Geräte | K10: Logistikmaßnahmen (weniger Transport-km)
C11: Textilien | E11: Spielzeug | K11: alternative Treibstoffe (z.B. E-LKW)
C12: Kosmetik | E12: Möbel | K12: umweltschonende Transportmittel (z.B. Bahn)
C13: Sonstiges | E13: Textilien | K13: sonstige
C14: x | E14: Sonstiges
G15: Bsp | K15: ja
C16: Verbrauchsgüter (werden bei Nutzung verbraucht) | G16: Kosmetik, Waschmittel, Einmalgeschirr | K16: nein
C17: Investitionsgüter (zur Herstellung anderer Güter oder DL) | G17: Maschinen, Fahrzeuge | K17: nicht relevant da Verbrauchsgut
C18: Gebrauchsgüter (über längeren Zeitraum genutzt) | G18: Geschirr, Geräte, Maschinen
C19: Werkstoffe und Materialien/Vorprodukte | G19: Kunststoffe, Materialien
B22: Investitionsgüter & Gebrauchsgüter | G22: TABELLE
B24: Verbrauchsgüter | G24: TABELLE | I24: Putzmittel | J24: Blauer Engel
J25: EU Ecolabel
J26: Umweltzeichen
J27: Nordic Swan
J28: Cradle to Cradle certified
J29: xx
I31: Textilien | J31: ja (eigene Angabe)
J32: ja mit Nachweis
J33: nein
C34: ja in einer Bedienungsanleitung
C35: ja Aufschrift am Produkt
C36: ja QR Code
C37: ja auf unserer homepage
C38: ja mehrere davon (bitte erläutern)
C39: nein
C42: im eigenen Unternehmen
C43: in der Region (<100km)
C44: in Europa
C45: sonstige
C48: Eigene Produktion -> Tabelle ausfüllen (Blatt:Tabellen): Wärme | H48: Eigene Produktion -> Tabelle ausfüllen (Blatt:Tabellen): Strom
C49: Drittanbieter (weiter zu Frage 9b) | H49: Drittanbieter (weiter zu Frage 9b)
C50: nicht relevant
C53: Mehrwegverpackung
C54: Gewichtsreduktion
C55: Materialien-tausch
C56: Einsatz recyclbarer Materialen
C57: Maßnahmen zur Reduktion der Umverpackung
C58: Andere Maßnahmen
C61: Information über Mehrwegsystem
C62: richtigen Umgang mit der Verpackung (Mülltrennung,Recycling..)
C65: in der Region (<100km) | H65: < 1 mg/L | I65: Sehr giftig für Wasserorganismen
C66: im eigenen Land | H66: 1–10 mg/L | I66: Giftig
C67: in Europa | H67: 10–100 mg/L | I67: Mäßig giftig
C68: sonstige | H68: > 100 mg/L | I68: Geringe akute Toxizität
A74: Fr 16 | B74: ja
B75: nein
B76: nicht möglich (bitte erläutern)

Sheet Tabelle
A1: Bewertung
C2: Frage 4: | D2: Investitions/Gebrauchsgüter AUSSER Textilien
A3: Gewichtung | D3: Kategorie | E3: Kriterium | F3: Antwort | G3: Anteil am Produktgewicht | H3: für Produktgruppe nicht relevant | I3: Erläuterung | J3: Nachweis
A4: 0.2 | B4: Punkte bei ja, Nachweis multipliziert mit % | D4: Inhalt | E4: Enthält das Produkt erneuerbare Inhaltsstoffe | G4: % | H4: FALSE | J4: Datenblatt
A5: 0.2 | B5: Punkte bei ja, Nachweis multipliziert mit % | D5: Inhalt | E5: Enthält das Produkt recycelte Inhaltsstoffe | G5: % | H5: FALSE | J5: Datenblatt
A6: 0.15 | B6: Punkte bei ja und Nachweis | D6: Inhalt | E6: Wird der Einsatz kritischer Rohstoffe vermieden (über gesetzl. Vorgaben hinaus) | G6: – | H6: FALSE | J6: Datenblatt
A7: 0.15 | B7: Punkte bei ja und Nachweis | D7: Inhalt | E7: Wird der Einsatz von Schadstoffen vermieden (über gesetzl. Vorgaben hinaus) | G7: – | H7: FALSE | J7: Zertifikat/Datenblatt
A8: 0.1 | B8: Punkte bei ja und Nachweis; nicht rel. F. Produktart& Erläuterung: halbe Punkte | D8: Design | E8: Wurde beim Produktdesign auf Modularität/Aufrüstbarkeit geachtet | G8: – | H8: FALSE
A9: 0.1 | B9: Punkte bei ja und Nachweis; nicht rel. F. Produktart& Erläuterung: halbe Punkte | D9: Design | E9: Wurde beim Produktdesign auf Wartungs/Reparaturfähigkeit geachtet: | G9: – | H9: FALSE
A10: 0.05 | B10: Punkte bei ja und Nachweis; nicht rel. F. Produktart& Erläuterung: halbe Punkte | D10: Design | E10: Organisation/Verfügbarkeit von Ersatzteilen durch das Unternehmen | G10: – | H10: FALSE
A11: 0.05 | B11: Punkte bei ja und Nachweis; nicht rel. F. Produktart& Erläuterung: halbe Punkte | D11: Design | E11: Organisation/Verfügbarkeit der Reparatur durch das Unternehmen | G11: – | H11: FALSE
D14: Gebrauchsgüter: Textilien
A15: Gewichtung | D15: Kriterium | E15: Antwort | F15: Erläuterung | G15: Nachweis
A16: 0.2 | B16: volle P bei ja, sonst 0 | D16: Wie hoch ist der Anteil nachhaltiger Fasern am Produkt? (z.B. Hanf, Leinen, Lyocell, Bio-Baumwolle..) | E16: x% | G16: Zertifikat/Datenblatt
A17: 0.1 | B17: volle P bei ja mal % Anteil | D17: Wie hoch ist der Anteil recycelter Fasern? | E17: x% | G17: Zertifikat/Datenblatt
A18: 0.1 | B18: volle P bei ja, sonst 0 | D18: Verzicht auf gesundheitsschädliche Chemikalien (über gesetzl. Vorgaben hinaus)? | G18: z. B. OEKO-TEX
A19: 0.4 | B19: volle P bei ja, sonst 0 | D19: Gibt es für das Produkt oder dessen Inhaltsstoffe ein anerkanntes Umwelt- oder Nachhaltigkeitszeichen? | G19: Zertifikat
A20: 0.05 | B20: volle P bei ja, sonst 0 | D20: Wurde beim Produktdesign auf Langlebigkeit und hohe Verarbeitungsqualität geachtet? | G20: Produktbeschreibung
A21: 0.05 | B21: volle P bei ja, sonst 0 | D21: Wurde beim Produktdesign auf Reparatur- oder Wiederverwendungsmöglichkeit geachtet? | G21: Produktbeschreibung
D24: bei verschiedenen Produktgruppen: füllen Sie jeweils eine Tabelle pro Produktgruppe aus (ggf. rechts weitere Tabellen einfügen)
C26: Frage 5: | D26: Verbrauchsgüter, z.B. Putz-, Reinigungsmittel, Kosmetik | I26: Verbrauchsgüter, z.B. Putz-, Reinigungsmittel, Kosmetik
D27: Produkt/gruppe: | F27: Umsatzanteil:[%] | I27: Produkt/gruppe: | K27: Umsatzanteil:[%]
A28: Gewichtung | D28: Kriterium | E28: Antwort | F28: für Produktgruppe nicht relevant | G28: Nachweis | I28: Kriterium | J28: Antwort | K28: für Produktgruppe nicht relevant | L28: Nachweis
A29: 0.1 | B29: volle P bei ja, sonst 0 | D29: Enthält das Produkt biologisch abbaubare Inhaltsstoffe (über gesetzliche Vorgaben hinaus) | F29: FALSE | G29: Produktdatenblatt oder Herstellerbestätigung | I29: Enthält das Produkt biologisch abbaubare Inhaltsstoffe (über gesetzliche Vorgaben hinaus) | K29: FALSE | L29: Produktdatenblatt oder Herstellerbestätigung
A30: 0.1 | B30: volle P bei ja, sonst 0 | D30: Ist das Produkt frei von Mikroplastik | F30: FALSE | G30: Produktdatenblatt | I30: Ist das Produkt frei von Mikroplastik | K30: FALSE | L30: Produktdatenblatt
A31: 0.1 | B31: volle P bei ja, sonst 0 | D31: Verzichtet das Produkt auf umwelt- oder gesundheitsschädliche Chemikalien/Inhaltsstoffe (über gesetzl. Vorgaben hinaus) | F31: FALSE | G31: Sicherheitsdatenblatt | I31: Verzichtet das Produkt auf umwelt- oder gesundheitsschädliche Chemikalien/Inhaltsstoffe (über gesetzl. Vorgaben hinaus) | K31: FALSE | L31: Sicherheitsdatenblatt
A32: 0.1 | B32: volle P bei ja, sonst 0 | D32: Handelt es sich um ein Konzentrat? | F32: FALSE | G32: Produktbeschreibung | I32: Handelt es sich um ein Konzentrat? | K32: FALSE | L32: Produktbeschreibung
A33: 0.1 | B33: volle P bei 0, 50% bei EC/LC50 > 100 mg/L | D33: Wie hoch ist die aquatische Toxizität des Produktes? (LC50, NC50) | F33: FALSE | G33: Sicherheitsdatenblatt | I33: Wie hoch ist die aquatische Toxizität des Produktes? (LC50, NC50) | K33: FALSE | L33: Sicherheitsdatenblatt
A34: 0.1 | B34: volle P bei ja, sonst 0 | D34: Besteht das Produkt aus nachwachsenden oder biobasierten Rohstoffen? | F34: FALSE | G34: Produktdatenblatt | I34: Besteht das Produkt aus nachwachsenden oder biobasierten Rohstoffen? | K34: FALSE | L34: Produktdatenblatt
A35: 0.4 | B35: volle P bei ja, sonst 0 | D35: Gibt es für das Produkt oder dessen Haupt-Inhaltsstoffe (75% bezogen auf das Produktgewicht) ein anerkanntes Umwelt- oder Nachhaltigkeitszeichen? | F35: FALSE | G35: Zertifikat, z.B. EU Ecolabel, Blauer Engel, Ecocert | I35: Gibt es für das Produkt oder dessen Haupt-Inhaltsstoffe (75% bezogen auf das Produktgewicht) ein anerkanntes Umwelt- oder Nachhaltigkeitszeichen? | K35: FALSE | L35: Zertifikat, z.B. EU Ecolabel, Blauer Engel, Ecocert
C38: Frage 9: | D38: Strom | F38: Bezugsjahr:
D39: Stromquelle | E39: Standort 1:…............ | F39: Standort 2:…........ | G39: Standort 3:…........ | H39: Standort ..:….....
D40: Netzbezug: zertifizierter Ökostrom [MWh] | I40: relevante Produktionsstandorte FÜR DAS GEWÄHLTE PRODUKT
D41: Netzbezug: Strom [MWh] Anteil Erneuerbare lt. Stromversorger [%]
E42: % | F42: % | G42: % | H42: %
D43: Eigene PV-Anlage [MWh]
D44: Sonstiges [MWh]
D45: nicht relevant | E45: FALSE | F45: FALSE | G45: FALSE | H45: FALSE
D46: Summe [MWh] | E46: =SUM(E40+E41+E43+E44) -> 0 | F46: =SUM(F40+F41+F43+F44) -> 0 | G46: =SUM(G40+G41+G43+G44) -> 0 | H46: =SUM(H40+H41+H43+H44) -> 0
C48: Frage 9a: | D48: Wärme | F48: Bezugsjahr:
D49: Wärmeträger | E49: Standort 1:…........ | F49: Standort 2:…........ | G49: Standort 3:…........ | H49: Standort ...:…........ | I49: relevante Produktionsstandorte FÜR DAS GEWÄHLTE PRODUKT
D50: Erdgas [MWh] | E50: 0.05
D51: Fernwärme [MWh] Anteil Erneuerbare lt. Fernwärmeanbieter [%]
E52: % | F52: % | G52: % | H52: %
D53: Biomasse / Holz / Pellets [MWh]
D54: Strom (Wärmepumpe)
D55: Öl [MWh]
D56: Sonstiges [MWh]
D57: nicht relevant | E57: FALSE | F57: FALSE | G57: FALSE | H57: FALSE
D58: Summe [MWh] | E58: =SUM(E50,E51,E53,E55,E56) -> 0.05 | F58: =SUM(F50,F51,F53,F55,F56) -> 0 | G58: =SUM(G50,G51,G53,G55,G56) -> 0 | H58: =SUM(H50,H51,H53,H55,H56) -> 0
C61: Frage 9b: | D61: externer Hersteller | F61: Bezugsjahr:
D62: Stromquelle | E62: Hersteller 1:…........ | F62: Hersteller 2:…........ | G62: Hersteller 3:…........ | H62: Hersteller...:…........ | I62: relevante Produktionsstandorte FÜR DAS GEWÄHLTE PRODUKT
D63: Netzbezug: zertifizierter Ökostrom [MWh]
D64: Netzbezug: Strom [MWh] Anteil Erneuerbare lt. Stromversorger [%]
E65: % | F65: % | G65: % | H65: %
D66: Eigene PV-Anlage [MWh]
D67: Sonstiges [MWh]
D68: nicht relevant | E68: FALSE | F68: FALSE | G68: FALSE | H68: FALSE
D69: Summe [MWh] | E69: =E63+E64+E66+E67 -> 0 | F69: =F63+F64+F66+F67 -> 0 | G69: =G63+G64+G66+G67 -> 0 | H69: =H63+H64+H66+H67 -> 0
D70: Wärmeträger | E70: Hersteller 1:…........ | F70: Hersteller 2:…........ | G70: Hersteller 3:…........ | H70: Hersteller...:…........ | I70: relevante Produktionsstandorte FÜR DAS GEWÄHLTE PRODUKT
D71: Erdgas [MWh]
D72: Fernwärme [MWh] Anteil Erneuerbare lt. Versorger [%]
E73: % | F73: % | G73: % | H73: %
D74: Biomasse / Holz / Pellets [MWh]
D75: Strom (Wärmepumpe)
D76: Öl [MWh]
D77: Sonstiges [MWh]
D78: nicht relevant | E78: FALSE | F78: FALSE | G78: FALSE | H78: FALSE
D79: Summe [MWh] | E79: =E71+E72+E74+E76+E77 -> 0 | F79: =F71+F72+F74+F76+F77 -> 0 | G79: =G71+G72+G74+G76+G77 -> 0 | H79: =H71+H72+H74+H76+H77 -> 0
C82: Frage 17: | D82: Produkt
D83: Produkt | E83: Art der Produktverpackung | F83: Netto-Produktgewicht* [g] | G83: Gewicht Produktverpackung [g] | H83: Verpackungsanteil [%] | I83: Art der Umverpackung
C84: Beispiel | D84: Produkt 1 | E84: z. B. Glas, Becher, Flasche, Dose | F84: 100 | G84: 10 | H84: =((G84)/(G84+F84)) -> 0.090909091 | I84: z. B. Karton, Sleeve, Folie, Banderole
H85: =((G85)/(G85+F85)) -> #DIV/0!
H86: =((G86)/(G86+F86)) -> #DIV/0!
H87: =((G87)/(G87+F87)) -> #DIV/0!
D88: *bei Flüssigkeiten und unbekanntem Gewicht Umrechnung annehmen/abschätzen

Sheet Ergebnisübersicht

Sheet Rückfragen
